BEGIN:VCALENDAR
PRODID:NingEventWidget-v1
VERSION:2.0
METHOD:PUBLISH
BEGIN:VTIMEZONE
TZID:Pacific/Midway
X-LIC-LOCATION:Pacific/Midway
BEGIN:STANDARD
TZOFFSETFROM:-1100
TZOFFSETTO:-1100
TZNAME:SST
DTSTART:19700101T000000
END:STANDARD
END:VTIMEZONE
BEGIN:VEVENT
UID:3646443:Event:78431
DTSTAMP:20260421T150753Z
SUMMARY:11th Annual Canadian Water Summit
DESCRIPTION:The 11th annual Canadian Water Summit will take place in t
 he nation’s capital and discuss the biggest issues in the sector. Th
 is year’s theme is The Keys to a Blue Economy: Unlocking Water Polic
 y, Governance, and Technology in Canada.\r\nThe Canadian Water Summit 
 is proud to continue our event partnership model with a new collaborat
 ion. This year we will be working with CWWA to co-locate its Window on
  Ottawa policy event alongside the Canadian Water Summit. Together, we
  will help build important conversations on the policy and governance 
 issues which are key to unlocking Canada’s blue economy.\n\nFor more
  information visit https://ontag.farms.com/events/11th-annual-canadian
 -water-summit
DTSTART;TZID=Pacific/Midway:20200610T073000
DTEND;TZID=Pacific/Midway:20200612T183000
CATEGORIES:summit
LOCATION:Delta Ottawa Centre
WEBSITE:http://watersummit.ca/about-us/
URL:http://watersummit.ca/about-us/
CONTACT:416-444-5842 x151
ORGANIZER:Blue Events
ATTACH;FMTTYPE="image/jpeg":
ATTENDEE;ROLE=REQ-PARTICIPANT;PARTSTAT=ACCEPTED;RSVP=TRUE;CN="OntAG Ad
 min":https://ontag.farms.com/profile/OntAGAdmin
END:VEVENT
END:VCALENDAR
