BEGIN:VCALENDAR
PRODID:NingEventWidget-v1
VERSION:2.0
METHOD:PUBLISH
BEGIN:VTIMEZONE
TZID:Pacific/Midway
X-LIC-LOCATION:Pacific/Midway
BEGIN:STANDARD
TZOFFSETFROM:-1100
TZOFFSETTO:-1100
TZNAME:SST
DTSTART:19700101T000000
END:STANDARD
END:VTIMEZONE
BEGIN:VEVENT
UID:3646443:Event:40289
DTSTAMP:20260421T172008Z
SUMMARY:11th Annual North American Ag & Food HR Roundtable - AgCareers
 .com
DESCRIPTION:Mark your calendar to attend the 2013 North American Ag Fo
 od HR RoundtableThe Ag & Food HR Roundtable will explore recruitment a
 nd retention issues within the agriculture and food industries. This c
 onference is one-of-a-kind and an excellent opportunity for human reso
 urce professionals, senior leaders, university and college career serv
 ices staff and faculty, and association representatives within agricul
 ture and food.\n\n\nFor more information visit https://ontag.farms.com
 /events/11th-annual-north-american-ag-food-hr-roundtable
DTSTART;TZID=Pacific/Midway:20130806T000000
DTEND;TZID=Pacific/Midway:20130808T235900
CATEGORIES:conference
LOCATION:Johnston, Iowa
WEBSITE:http://www.agcareers.com/conferences.cfm
URL:http://www.agcareers.com/conferences.cfm
CONTACT:
ORGANIZER:AgCareers.com
ATTACH;FMTTYPE="image/jpeg":http://storage.ning.com/topology/rest/1.0/
 file/get/1091521678?profile=original
ATTENDEE;ROLE=REQ-PARTICIPANT;PARTSTAT=ACCEPTED;RSVP=TRUE;CN="OntAG Ad
 min":https://ontag.farms.com/profile/OntAGAdmin
END:VEVENT
END:VCALENDAR
