BEGIN:VCALENDAR
PRODID:NingEventWidget-v1
VERSION:2.0
METHOD:PUBLISH
BEGIN:VTIMEZONE
TZID:Pacific/Midway
X-LIC-LOCATION:Pacific/Midway
BEGIN:STANDARD
TZOFFSETFROM:-1100
TZOFFSETTO:-1100
TZNAME:SST
DTSTART:19700101T000000
END:STANDARD
END:VTIMEZONE
BEGIN:VEVENT
UID:3646443:Event:111507
DTSTAMP:20260421T221214Z
SUMMARY:157th Lombardy Fair
DESCRIPTION:The Lombardy Fair is an agricultural fair hosted by the Lo
 mbardy Agricultural Society that takes place each year during the Civi
 c Long Weekend in August.The Lombardy Agricultural Society is a not-fo
 r-profit organization made up of hard working volunteers who come toge
 ther to present a family-friendly fair featuring agricultural and ente
 rtainment events\n\nFor more information visit https://ontag.farms.com
 /events/157th-lombardy-fair
DTSTART;TZID=Pacific/Midway:20230804T000000
DTEND;TZID=Pacific/Midway:20230806T235900
CATEGORIES:fair
LOCATION:Lombardy Fairgrounds,
WEBSITE:https://www.lombardyfair.ca/
URL:https://www.lombardyfair.ca/
CONTACT:613-283-2065 (only during fair time)
ORGANIZER:Lombardyfair
ATTACH;FMTTYPE="image/jpeg":https://storage.ning.com/topology/rest/1.0
 /file/get/10944043461?profile=original
ATTENDEE;ROLE=REQ-PARTICIPANT;PARTSTAT=ACCEPTED;RSVP=TRUE;CN="OntAG Ad
 min":https://ontag.farms.com/profile/OntAGAdmin
END:VEVENT
END:VCALENDAR
