BEGIN:VCALENDAR
PRODID:NingEventWidget-v1
VERSION:2.0
METHOD:PUBLISH
BEGIN:VTIMEZONE
TZID:Pacific/Midway
X-LIC-LOCATION:Pacific/Midway
BEGIN:STANDARD
TZOFFSETFROM:-1100
TZOFFSETTO:-1100
TZNAME:SST
DTSTART:19700101T000000
END:STANDARD
END:VTIMEZONE
BEGIN:VEVENT
UID:3646443:Event:112700
DTSTAMP:20260423T131253Z
SUMMARY:186th Fergus Fall Fair
DESCRIPTION:Since 1836 Fergus has been home to a vibrant agricultural 
 fair. What once began as an event to educate farmers about improved fa
 rming practices and encourage healthy competition promoting the advanc
 ement of farming has evolved into what we know today as the Fergus Fal
 l Fair – the tenth oldest fair in Ontario. Dedicated volunteers have
  worked hard, year after year, generation after generation, to organiz
 e the annual event.  Admission Daytime Entry (Adult)    $10 Evening 
 Shows (Adult)  $15 Ages 13 – 18                 $8 Ages 6 
 – 12                   $4 Ages 5 & Under Free  Weekend Pas
 s $30Parking (within fair gates) $5  *All prices include HST. Prices s
 ubject to change without notice. In the event of a discrepency, the pr
 ice posted at the gate shall prevail.  Friday fair Starting at 5:00 p
 .m.\n\nFor more information visit https://ontag.farms.com/events/186th
 -fergus-fall-fair
DTSTART;TZID=Pacific/Midway:20230915T090000
DTEND;TZID=Pacific/Midway:20230917T170000
CATEGORIES:fair
LOCATION:Center welligton community sportsplex
WEBSITE:https://www.fergusfallfair.ca/
URL:https://www.fergusfallfair.ca/
CONTACT:
ORGANIZER:Fergus Agricultural Society
ATTACH;FMTTYPE="image/jpeg":https://storage.ning.com/topology/rest/1.0
 /file/get/12157908886?profile=original
ATTENDEE;ROLE=REQ-PARTICIPANT;PARTSTAT=ACCEPTED;RSVP=TRUE;CN="OntAG Ad
 min":https://ontag.farms.com/profile/OntAGAdmin
END:VEVENT
END:VCALENDAR
