BEGIN:VCALENDAR
PRODID:NingEventWidget-v1
VERSION:2.0
METHOD:PUBLISH
BEGIN:VTIMEZONE
TZID:Pacific/Midway
X-LIC-LOCATION:Pacific/Midway
BEGIN:STANDARD
TZOFFSETFROM:-1100
TZOFFSETTO:-1100
TZNAME:SST
DTSTART:19700101T000000
END:STANDARD
END:VTIMEZONE
BEGIN:VEVENT
UID:3646443:Event:127
DTSTAMP:20260424T085238Z
SUMMARY:2009 Ontario Harvest Gala
DESCRIPTION:Join your friends in food and farming to celebrate Ontario
 ’s abundance, the people who make it happen and their generosity to 
 those in need at the 2009 Harvest Gala.\n\nFor more information visit 
 https://ontag.farms.com/events/2009-ontario-harvest-gala
DTSTART;TZID=Pacific/Midway:20091022T183000
DTEND;TZID=Pacific/Midway:20091022T234500
CATEGORIES:"fundraiser/celebration"
LOCATION:Delta Guelph
WEBSITE:
URL:
CONTACT:
ORGANIZER:
ATTACH;FMTTYPE="image/jpeg":http://storage.ning.com/topology/rest/1.0/
 file/get/1091498424?profile=original
ATTENDEE;ROLE=REQ-PARTICIPANT;PARTSTAT=ACCEPTED;RSVP=TRUE;CN="Andrew C
 ampbell":https://ontag.farms.com/profile/AgriNewsHound
END:VEVENT
END:VCALENDAR
