BEGIN:VCALENDAR
PRODID:NingEventWidget-v1
VERSION:2.0
METHOD:PUBLISH
BEGIN:VTIMEZONE
TZID:Pacific/Midway
X-LIC-LOCATION:Pacific/Midway
BEGIN:STANDARD
TZOFFSETFROM:-1100
TZOFFSETTO:-1100
TZNAME:SST
DTSTART:19700101T000000
END:STANDARD
END:VTIMEZONE
BEGIN:VEVENT
UID:3646443:Event:4372
DTSTAMP:20260421T180113Z
SUMMARY:2010 Investment in Canadian Agriculture and Agri-food Industry
  Seminar
DESCRIPTION:2010 Investment in Canadian Agriculture and Agri-food Indu
 stry Seminar\n\nApril 29, 2010\n\nOntario Investment & Trade Centre\nT
 oronto, ON\n\n\n------------------------------------------------------
 --------------------------\n\nThe Canada-China Agriculture and Food De
 velopment Exchange Center will present a seminar on opportunities for 
 investment and networking with Chinese investors. Of great interest to
  farmers, agri-food business owners and any others who want to attract
  investments, export products to China or those who are interested in 
 selling farm land or businesses to Chinese-Canadians, officers from go
 vernment agencies, organizations or associations who are interested in
  understanding a new trend and agriculture and agri-food business supp
 liers, consultants, service business owners and any others who want to
  find new opportunities in this emerging booming market.\n\nDetails\n\
 nFor more information visit https://ontag.farms.com/events/2010-invest
 ment-in-canadian
DTSTART;TZID=Pacific/Midway:20100429T090000
DTEND;TZID=Pacific/Midway:20100429T160000
CATEGORIES:seminar
LOCATION:Ontario Investment & Trade Centre
WEBSITE:http://www.ccagr.com/content/view/66/148/
URL:http://www.ccagr.com/content/view/66/148/
CONTACT:
ORGANIZER:Canada-China Agriculture and Food Development Exchange Cente
 r
ATTACH;FMTTYPE="image/jpeg":
ATTENDEE;ROLE=REQ-PARTICIPANT;PARTSTAT=ACCEPTED;RSVP=TRUE;CN="OntAG Ad
 min":https://ontag.farms.com/profile/OntAGAdmin
END:VEVENT
END:VCALENDAR
