BEGIN:VCALENDAR
PRODID:NingEventWidget-v1
VERSION:2.0
METHOD:PUBLISH
BEGIN:VTIMEZONE
TZID:Pacific/Midway
X-LIC-LOCATION:Pacific/Midway
BEGIN:STANDARD
TZOFFSETFROM:-1100
TZOFFSETTO:-1100
TZNAME:SST
DTSTART:19700101T000000
END:STANDARD
END:VTIMEZONE
BEGIN:VEVENT
UID:3646443:Event:244
DTSTAMP:20260421T174817Z
SUMMARY:2010 OSCIA Annual Meeting
DESCRIPTION:2010 OSCIA Annual Meeting\n\nFor more information visit ht
 tps://ontag.farms.com/events/2010-oscia-annual-meeting
DTSTART;TZID=Pacific/Midway:20100202T000000
DTEND;TZID=Pacific/Midway:20100203T235900
CATEGORIES:meeting
LOCATION:Sheraton Fallsview
WEBSITE:
URL:
CONTACT:
ORGANIZER;CN="OntAG Admin":https://ontag.farms.com/profile/OntAGAdmin
ATTACH;FMTTYPE="image/jpeg":
ATTENDEE;ROLE=REQ-PARTICIPANT;PARTSTAT=ACCEPTED;RSVP=TRUE;CN="OntAG Ad
 min":https://ontag.farms.com/profile/OntAGAdmin
ATTENDEE;ROLE=REQ-PARTICIPANT;PARTSTAT=TENTATIVE;RSVP=TRUE;CN="rein mi
 nnema":https://ontag.farms.com/profile/reinminnema
END:VEVENT
END:VCALENDAR
