BEGIN:VCALENDAR
PRODID:NingEventWidget-v1
VERSION:2.0
METHOD:PUBLISH
BEGIN:VTIMEZONE
TZID:Pacific/Midway
X-LIC-LOCATION:Pacific/Midway
BEGIN:STANDARD
TZOFFSETFROM:-1100
TZOFFSETTO:-1100
TZNAME:SST
DTSTART:19700101T000000
END:STANDARD
END:VTIMEZONE
BEGIN:VEVENT
UID:3646443:Event:53494
DTSTAMP:20260420T023748Z
SUMMARY:2014 Ontario Pork Congress
DESCRIPTION:The 41st Ontario Pork Congress (OPC) will take place June 
 18 and 19 at the Stratford Rotary Complex in Stratford, Ontario. It is
  the opportunity for the swine sector to assemble all of the different
  sectors of the swine industry; it is the biggest swine show in Canada
 . The Congress enables swine farmers to get information on the latest 
 pork issues and learn about new technologies. More than 200 exhibitors
  and retailers will represent both the domestic and international pork
  industry, exhibitors include feed and animal health products, to barn
  ventilation technology and sow housing equipment retailers. According
  to show organizers, one of the main aims of this year’s Congress is
  to provide a well-rounded event that will cater to both a producer-fo
 cused and general audience.“We’re basically trying to make this ye
 ar’s congress a greater hog experience for the people that come,” 
 he explains. “We’re introducing some new initiatives and bringing 
 back popular events from last year’s Congress to key up interest amo
 ng the pork producers, as well as the general public.” For more info
 rmation, be sure to visit www.porkcongress.on.ca\n\nFor more informat
 ion visit https://ontag.farms.com/events/2014-ontario-pork-congress
DTSTART;TZID=Pacific/Midway:20140618T100000
DTEND;TZID=Pacific/Midway:20140619T170000
CATEGORIES:show
LOCATION:Stratford Rotary Complex
WEBSITE:http://www.porkcongress.on.ca
URL:http://www.porkcongress.on.ca
CONTACT:
ORGANIZER:OPC
ATTACH;FMTTYPE="image/jpeg":http://storage.ning.com/topology/rest/1.0/
 file/get/1091523872?profile=original
ATTENDEE;ROLE=REQ-PARTICIPANT;PARTSTAT=ACCEPTED;RSVP=TRUE;CN="OntAG Ad
 min":https://ontag.farms.com/profile/OntAGAdmin
END:VEVENT
END:VCALENDAR
