BEGIN:VCALENDAR
PRODID:NingEventWidget-v1
VERSION:2.0
METHOD:PUBLISH
BEGIN:VTIMEZONE
TZID:Pacific/Midway
X-LIC-LOCATION:Pacific/Midway
BEGIN:STANDARD
TZOFFSETFROM:-1100
TZOFFSETTO:-1100
TZNAME:SST
DTSTART:19700101T000000
END:STANDARD
END:VTIMEZONE
BEGIN:VEVENT
UID:3646443:Event:53535
DTSTAMP:20260422T172407Z
SUMMARY:Bellville RAM Rodeo: 2014 Ontario Rodeo Tour Schedule.
DESCRIPTION:Ontario Rodeo Tour Schedule\nwww.ontariorodeo.com \nThe R
 AM Rodeo will feature 10 events throughout Ontario and the CASE IH Ult
 imate Tour will be hosting 5 events in its second year. All these even
 ts will be Sanctioned by the Canadian Cowboys Association along with s
 elect ones also being sanctioned by the Association des Cowboys de l'E
 st au Canada (ACEC). We welcome the Cowboys and Cowgirls from Quebec a
 nd the United States to the events and wish them luck through the summ
 er.\n \nThere are no shortage of opportunities at each and every one 
 of these events as points and money earned go towards the RAM Champion
 ships in Newmarket and will qualify competitors to the Toronto Royal I
 nvitational Rodeo in November 2014. Points will also count towards the
  Canadian CCA Championships in Regina. The top competitor in the easte
 rn CCA rodeos in Ontario will be awarded one automatic entry in the st
 andard events at the Regina Agribition.  \n \nIn addition, All RAM 
 Rodeos will feature $1,000.00 added prize money in standard events as 
 well as most Case IH events.\n \nThe first Rodeo kicks off in Bellevi
 lle, June 14-15, which will be the first event sanctioned with both th
 e CCA the ACEC.\n\nFor more information visit https://ontag.farms.com/
 events/2014-ontario-rodeo-tour-schedule-bellville-ram-rodeo
DTSTART;TZID=Pacific/Midway:20140614T180000
DTEND;TZID=Pacific/Midway:20140615T190000
CATEGORIES:rodeo
LOCATION:Bellville Agriculture Fairgrounds.
WEBSITE:http://bellevilleramrodeo.blogspot.ca/
URL:http://bellevilleramrodeo.blogspot.ca/
CONTACT:
ORGANIZER:RMG
ATTACH;FMTTYPE="image/jpeg":http://storage.ning.com/topology/rest/1.0/
 file/get/1091522779?profile=original
ATTENDEE;ROLE=REQ-PARTICIPANT;PARTSTAT=ACCEPTED;RSVP=TRUE;CN="OntAG Ad
 min":https://ontag.farms.com/profile/OntAGAdmin
END:VEVENT
END:VCALENDAR
