BEGIN:VCALENDAR
PRODID:NingEventWidget-v1
VERSION:2.0
METHOD:PUBLISH
BEGIN:VTIMEZONE
TZID:Pacific/Midway
X-LIC-LOCATION:Pacific/Midway
BEGIN:STANDARD
TZOFFSETFROM:-1100
TZOFFSETTO:-1100
TZNAME:SST
DTSTART:19700101T000000
END:STANDARD
END:VTIMEZONE
BEGIN:VEVENT
UID:3646443:Event:61236
DTSTAMP:20260422T004514Z
SUMMARY:2015 Molson Pace at Western Fair District
DESCRIPTION:2015 Molson Pace\nThe CAN’T MISS Event of the Season!\nT
 he Molson Pace is The Raceway in the Western Fair District’s signatu
 re event, held on the last Friday night in May ending the live race se
 ason with a bang! The total purse money for the night is more than $40
 0,000, attracting an exceptional caliber of horses and drivers. But no
 t all of the action is on the track! Patrons are always treated to a s
 pecial night of giveaways, prizes and great entertainment.\nMay 29th, 
 2015 – First Post at 7:15 PM\nJoin us for a THRILLING night out at t
 he races!  Featuring:\n-       The $150,000 Molson Pace starrin
 g North America’s BEST Aged Pacers!\n-       Ontario Sires Sta
 ke’s 3 Year Old Pacing Colt Gold Divisions\n-       City of Lo
 ndon Series Finals\nOn-Track Entertainment:\n-       Molson Part
 y on the Patio\n\nBBQ\nBeer specials\nMolson games and prizes includin
 g a chance to compete in the Molson Pace Win the Winner Contest – 8 
 finalists will be assigned a Molson Pace Finalist! If your horse wins 
 – YOU WIN CASH!\n\n \n-       Hands on Horses Program! – Si
 gn up at Guest Services for your chance to ride behind a real racehors
 e!!\n-       Hat and T-shirt tosses throughout the night in the 
 Grandstand and on the Patio\n-       Draws for Rock the Park Tic
 kets, NHL Beer Fridges and more!\nBring your friends and see what the 
 fun is all about!\n\n \n\nFor more information visit https://ontag.fa
 rms.com/events/2015-molson-pace-at-western-fair-district
DTSTART;TZID=Pacific/Midway:20150529T190000
DTEND;TZID=Pacific/Midway:20150529T230000
CATEGORIES:horse, race
LOCATION:Western Fair Raceway
WEBSITE:http://www.westernfairdistrict.com/gaming/molson_pace
URL:http://www.westernfairdistrict.com/gaming/molson_pace
CONTACT:
ORGANIZER:Western Fair District
ATTACH;FMTTYPE="image/jpeg":http://storage.ning.com/topology/rest/1.0/
 file/get/1091537972?profile=original
ATTENDEE;ROLE=REQ-PARTICIPANT;PARTSTAT=ACCEPTED;RSVP=TRUE;CN="OntAG Ad
 min":https://ontag.farms.com/profile/OntAGAdmin
END:VEVENT
END:VCALENDAR
