BEGIN:VCALENDAR
PRODID:NingEventWidget-v1
VERSION:2.0
METHOD:PUBLISH
BEGIN:VTIMEZONE
TZID:Pacific/Midway
X-LIC-LOCATION:Pacific/Midway
BEGIN:STANDARD
TZOFFSETFROM:-1100
TZOFFSETTO:-1100
TZNAME:SST
DTSTART:19700101T000000
END:STANDARD
END:VTIMEZONE
BEGIN:VEVENT
UID:3646443:Event:66125
DTSTAMP:20260422T110837Z
SUMMARY:2016 International Plowing Match& Rural Expo
DESCRIPTION:The IPM 2016 Exhibitor Information handbook is available o
 n the IPM 2016 and OPA websites. Inside the handbook, you will find ap
 plications, maps and lots of information about exhibiting at IPM 2016.
 \n\nFor more information visit https://ontag.farms.com/events/2016-int
 ernational-plowing-match-rural-expo
DTSTART;TZID=Pacific/Midway:20160920T083000
DTEND;TZID=Pacific/Midway:20160924T170000
CATEGORIES:rural, expo, "&", plowing, match
LOCATION:Town of Minto
WEBSITE:http://www.plowingmatch.org/home-2016
URL:http://www.plowingmatch.org/home-2016
CONTACT:
ORGANIZER;CN="OntAG Admin":https://ontag.farms.com/profile/OntAGAdmin
ATTACH;FMTTYPE="image/jpeg":http://storage.ning.com/topology/rest/1.0/
 file/get/1091544672?profile=original
ATTENDEE;ROLE=REQ-PARTICIPANT;PARTSTAT=ACCEPTED;RSVP=TRUE;CN="OntAG Ad
 min":https://ontag.farms.com/profile/OntAGAdmin
END:VEVENT
END:VCALENDAR
