BEGIN:VCALENDAR
PRODID:NingEventWidget-v1
VERSION:2.0
METHOD:PUBLISH
BEGIN:VTIMEZONE
TZID:Pacific/Midway
X-LIC-LOCATION:Pacific/Midway
BEGIN:STANDARD
TZOFFSETFROM:-1100
TZOFFSETTO:-1100
TZNAME:SST
DTSTART:19700101T000000
END:STANDARD
END:VTIMEZONE
BEGIN:VEVENT
UID:3646443:Event:69367
DTSTAMP:20260423T065208Z
SUMMARY:2017 International Plowing Match and Rural Expo
DESCRIPTION:The IPM has something for the whole family! \n\nCome and 
 enjoy a variety of fabulous local talent and entertainment – on vari
 ous stages throughout the Match. And don’t miss the exciting shows i
 ncluding the RAM Rodeo Tour, Auctioneers Challenge, the Nights of Valo
 ur Jousting and the Farmall Dancing Tractors. \nTented City offers ov
 er 500 vendors and exhibitors with something for everyone! Explore agr
 iculture, food and rural living, as well as antique and historical exh
 ibits and the Hydro One Education Areas. Learn about new technologies 
 in the expanded Farming for the Future Tent – featuring informative 
 displays and lecture series. \nThe BMO Plowing Completion features ju
 nior and adult plowing, as well as walking, horse and tractor plowing 
 divisions. \n\nFor more information visit https://ontag.farms.com/eve
 nts/2017-international-plowing-match-and-rural-expo
DTSTART;TZID=Pacific/Midway:20170919T083000
DTEND;TZID=Pacific/Midway:20170923T170000
CATEGORIES:farm, show
LOCATION:Huron County
WEBSITE:http://plowingmatch.org/index.php/ipm-2017
URL:http://plowingmatch.org/index.php/ipm-2017
CONTACT:1-800-661-7569
ORGANIZER:Ontario Plowmen's Association
ATTACH;FMTTYPE="image/jpeg":http://storage.ning.com/topology/rest/1.0/
 file/get/1091548190?profile=original
ATTENDEE;ROLE=REQ-PARTICIPANT;PARTSTAT=ACCEPTED;RSVP=TRUE;CN="Carol Fi
 ckling":https://ontag.farms.com/profile/CarolFickling
ATTENDEE;ROLE=REQ-PARTICIPANT;PARTSTAT=ACCEPTED;RSVP=TRUE;CN="OntAG Ad
 min":https://ontag.farms.com/profile/OntAGAdmin
END:VEVENT
END:VCALENDAR
