BEGIN:VCALENDAR
PRODID:NingEventWidget-v1
VERSION:2.0
METHOD:PUBLISH
BEGIN:VTIMEZONE
TZID:Pacific/Midway
X-LIC-LOCATION:Pacific/Midway
BEGIN:STANDARD
TZOFFSETFROM:-1100
TZOFFSETTO:-1100
TZNAME:SST
DTSTART:19700101T000000
END:STANDARD
END:VTIMEZONE
BEGIN:VEVENT
UID:3646443:Event:73598
DTSTAMP:20260421T080928Z
SUMMARY:2018 Shakespeare Swine Seminar
DESCRIPTION:The annual Shakespeare Swine Seminar for producers and all
 ied industry personnel will be held at the Stratford Festival Inn on W
 ednesday, September 19, 2018 in Stratford, Ontario.  Please note the 
 change of location. The meeting is sponsored by the Ontario Ministry o
 f Agriculture, Food, and Rural Affairs and Ontario Pork and the semina
 r focuses on topics of current and practical interest to swine produce
 rs.  Program highlights include: \r\n\r\nunderstanding the temporar
 y foreign worker program\r\ngas monitoring in swine barns\r\noptimizin
 g lactation feed intake\r\ndecreasing the risk of tail biting\r\na dis
 cussion of new disease syndromes in Ontario  \r\nDr. Mark Fitzsimmon
 s, a swine practitioner and producer from southern Minnesota, will spe
 ak on managing large litters and reducing stillbirths among other topi
 cs.\r\n\n\nFor more information visit https://ontag.farms.com/events/2
 018-shakespeare-swine-seminar
DTSTART;TZID=Pacific/Midway:20180919T153000
DTEND;TZID=Pacific/Midway:20180919T200000
CATEGORIES:seminar
LOCATION:Stratford Festival Inn
WEBSITE:http://www.ontariopork.on.ca/Communications/Upcoming-Events/20
 18-shakespeare-swine-seminar
URL:http://www.ontariopork.on.ca/Communications/Upcoming-Events/2018-s
 hakespeare-swine-seminar
CONTACT:877-424-1300
ORGANIZER:Ontario Ministry of Agriculture, Food, and Rural Affairs and
  Ontario Pork
ATTACH;FMTTYPE="image/jpeg":http://storage.ning.com/topology/rest/1.0/
 file/get/1091550919?profile=original
ATTENDEE;ROLE=REQ-PARTICIPANT;PARTSTAT=ACCEPTED;RSVP=TRUE;CN="OntAG Ad
 min":https://ontag.farms.com/profile/OntAGAdmin
END:VEVENT
END:VCALENDAR
