BEGIN:VCALENDAR
PRODID:NingEventWidget-v1
VERSION:2.0
METHOD:PUBLISH
BEGIN:VTIMEZONE
TZID:Pacific/Midway
X-LIC-LOCATION:Pacific/Midway
BEGIN:STANDARD
TZOFFSETFROM:-1100
TZOFFSETTO:-1100
TZNAME:SST
DTSTART:19700101T000000
END:STANDARD
END:VTIMEZONE
BEGIN:VEVENT
UID:3646443:Event:74981
DTSTAMP:20260420T213231Z
SUMMARY:2019 East Central Farm Show (39th)
DESCRIPTION:The 39th annual East Central Farm Show will take place in 
 the Commonwell Exhibition Building at the Lindsay, Ontario Fairgrounds
 . The only show of its kind between London and Ottawa, the event happe
 ns on Wednesday, March 6 and Thursday, March 7, 2019.\r\nOver 175 exhi
 bitors from across Ontario will be on hand to present the latest in ag
 ricultural products to the farming community.  There are always new e
 xhibitors in the show adding more choices to visit. The exhibitor list
  includes a wide range of agribusinesses from across Ontario aimed at 
 the farming community. Farm technology and farm equipment dealers, cro
 p input and soil management companies, livestock feed suppliers, farm 
 organizations, and more. Additional services aimed at the agricultural
  industry include insurance, financial and program service companies.\
 r\nAdmission: General admission is $5, with current Soil and Crop memb
 ers admitted free. Memberships, which cost $20, are available at the d
 oor.\r\nMore information: Please contact Neil Moore, Secretary Treasur
 er, phone 705-324-2594, nmoore361@gmail.com or visit https://regionals
 cia.org/ecfs-html/\n\nFor more information visit https://ontag.farms.c
 om/events/2019-east-central-farm-show-39th
DTSTART;TZID=Pacific/Midway:20190306T093000
DTEND;TZID=Pacific/Midway:20190307T160000
CATEGORIES:farm, show
LOCATION:Commonwell Exhibition Building
WEBSITE:https://regionalscia.org/ecfs-html/
URL:https://regionalscia.org/ecfs-html/
CONTACT:705-324-2594
ORGANIZER:ontario soil and crop improvemnt association
ATTACH;FMTTYPE="image/jpeg":https://storage.ning.com/topology/rest/1.0
 /file/get/1208333209?profile=original
ATTENDEE;ROLE=REQ-PARTICIPANT;PARTSTAT=ACCEPTED;RSVP=TRUE;CN="OntAG Ad
 min":https://ontag.farms.com/profile/OntAGAdmin
END:VEVENT
END:VCALENDAR
