BEGIN:VCALENDAR
PRODID:NingEventWidget-v1
VERSION:2.0
METHOD:PUBLISH
BEGIN:VTIMEZONE
TZID:Pacific/Midway
X-LIC-LOCATION:Pacific/Midway
BEGIN:STANDARD
TZOFFSETFROM:-1100
TZOFFSETTO:-1100
TZNAME:SST
DTSTART:19700101T000000
END:STANDARD
END:VTIMEZONE
BEGIN:VEVENT
UID:3646443:Event:74273
DTSTAMP:20260419T154404Z
SUMMARY:2019 Precision Agriculture Conference & Ag Technology Showcase
 !
DESCRIPTION:The 2019 Farms.com Precision Agriculture Conference & Ag T
 echnology Showcase will bring together more than 400 precision ag enth
 usiasts. Attendees will be able to learn from senior level forward thi
 nking precision agriculture experts, attend speaker presentations and 
 workshops. The conference is designed for those just beginning in prec
 ision agriculture as well as for those who have a solid understanding,
  but want to take it to the next level.\r\n \r\nThe conference will f
 eature a trade show with opportunities to network with leading precisi
 on agriculture agribusinesses.\n\nFor more information visit https://o
 ntag.farms.com/events/2019-precision-agriculture-conference-ag-technol
 ogy-showcase
DTSTART;TZID=Pacific/Midway:20190205T000000
DTEND;TZID=Pacific/Midway:20190206T235900
CATEGORIES:agriculture, conference
LOCATION:London Convention Centre
WEBSITE:http://www.farms.com/precisionagricultre
URL:http://www.farms.com/precisionagricultre
CONTACT:
ORGANIZER;CN="OntAG Admin":https://ontag.farms.com/profile/OntAGAdmin
ATTACH;FMTTYPE="image/jpeg":https://storage.ning.com/topology/rest/1.0
 /file/get/640402711?profile=original
ATTENDEE;ROLE=REQ-PARTICIPANT;PARTSTAT=ACCEPTED;RSVP=TRUE;CN="OntAG Ad
 min":https://ontag.farms.com/profile/OntAGAdmin
END:VEVENT
END:VCALENDAR
