BEGIN:VCALENDAR
PRODID:NingEventWidget-v1
VERSION:2.0
METHOD:PUBLISH
BEGIN:VTIMEZONE
TZID:Pacific/Midway
X-LIC-LOCATION:Pacific/Midway
BEGIN:STANDARD
TZOFFSETFROM:-1100
TZOFFSETTO:-1100
TZNAME:SST
DTSTART:19700101T000000
END:STANDARD
END:VTIMEZONE
BEGIN:VEVENT
UID:3646443:Event:78586
DTSTAMP:20260420T080731Z
SUMMARY:2020 Central Ontario Agricultural Conference
DESCRIPTION:The planning committee has put together another great line
 -up of speakers in a new, single day format featuring programs for cro
 p, sheep, dairy, organic and the backyard farmers. A keynote address b
 y Michael Thiele will focus on New Directions in Agriculture. Kim Clar
 ke will lead an intensive three-hour morning workshop for a limited nu
 mber of farms interested in agritourism or looking to enhance products
  and experiences already offer on your farm. Space is limited for Kimâ
 €™s workshop, register online to ensure you get a seat!\r\nCertified C
 rop Advisors (CCAs) will again find serveral sessions offering CEU cre
 dits.\r\nFor over 40 years this annual event for farmers by farmers ha
 s been made possible through the generous support of our many on-going
  sponsors and exhibitors. This year is no exception. Following the edu
 cation sessions plan on joining fellow farmers, presenters, exhibitors
 , and sponsors for a complimentary mix and mingle reception to celebra
 te our achievements and to connect with others.\r\nCost at the door re
 mains the same as on-line.\r\nRegular $35Students $20 (you may be aske
 d to show school ID at the door)\r\nIncludes hot lunch, parking, compl
 imentary reception, and a full-day of educational and informative sess
 ions!\r\nAgritourism Workshop (9am to noon) $35 (includes hot lunch, p
 arking, and option to stay for afternoon COAC sessions)\r\n\r\nLook fo
 rward to seeing you at the end of February in Barrie!\n\nFor more info
 rmation visit https://ontag.farms.com/events/2020-central-ontario-agri
 cultural-conference
DTSTART;TZID=Pacific/Midway:20200228T090000
DTEND;TZID=Pacific/Midway:20200228T163000
CATEGORIES:conference
LOCATION:The Sadlon Centre for Health and Wellness (Building M) at the
  Barrie Campus.
WEBSITE:https://www.centralontarioagconference.ca/
URL:https://www.centralontarioagconference.ca/
CONTACT:705-427-3126
ORGANIZER:Central Ontario Agricultural Conference
ATTACH;FMTTYPE="image/jpeg":
ATTENDEE;ROLE=REQ-PARTICIPANT;PARTSTAT=ACCEPTED;RSVP=TRUE;CN="OntAG Ad
 min":https://ontag.farms.com/profile/OntAGAdmin
END:VEVENT
END:VCALENDAR
