BEGIN:VCALENDAR
PRODID:NingEventWidget-v1
VERSION:2.0
METHOD:PUBLISH
BEGIN:VTIMEZONE
TZID:Pacific/Midway
X-LIC-LOCATION:Pacific/Midway
BEGIN:STANDARD
TZOFFSETFROM:-1100
TZOFFSETTO:-1100
TZNAME:SST
DTSTART:19700101T000000
END:STANDARD
END:VTIMEZONE
BEGIN:VEVENT
UID:3646443:Event:77669
DTSTAMP:20260421T141035Z
SUMMARY:Cancelled - 2020 FARMLAND FORUM
DESCRIPTION:CANCELLED!!   Please note the Ontario Farmland Trust (OFT
 ) has decided in light of the situation with COVID-19 to cancel this y
 ear’s Farmland Forum. This situation is evolving quickly and there a
 re so many variables at play that OFT feels it best to cancel this yea
 r’s event, not just for the safety of attendees, but also for the sa
 fety of  presenters, staff, and our community.\r\nThis will be disapp
 ointing to many who enjoy the annual Farmland Forum, but hope that you
  will understand the decision. Thank you for your patience and underst
 anding . Will mention updated schedule soon\r\nStay safe\n\nFor more i
 nformation visit https://ontag.farms.com/events/2020-farmland-forum
DTSTART;TZID=Pacific/Midway:20200326T000000
DTEND;TZID=Pacific/Midway:20200326T235900
CATEGORIES:forum
LOCATION:The Grand Banquet &amp; Event Centre
WEBSITE:https://ontariofarmlandtrust.ca/annual-farmland-forum/2020-far
 mland-forum/
URL:https://ontariofarmlandtrust.ca/annual-farmland-forum/2020-farmlan
 d-forum/
CONTACT:(519) 824-4120 x 52654
ORGANIZER:Ontario farmland trust
ATTACH;FMTTYPE="image/jpeg":
ATTENDEE;ROLE=REQ-PARTICIPANT;PARTSTAT=ACCEPTED;RSVP=TRUE;CN="OntAG Ad
 min":https://ontag.farms.com/profile/OntAGAdmin
END:VEVENT
END:VCALENDAR
