BEGIN:VCALENDAR
PRODID:NingEventWidget-v1
VERSION:2.0
METHOD:PUBLISH
BEGIN:VTIMEZONE
TZID:Pacific/Midway
X-LIC-LOCATION:Pacific/Midway
BEGIN:STANDARD
TZOFFSETFROM:-1100
TZOFFSETTO:-1100
TZNAME:SST
DTSTART:19700101T000000
END:STANDARD
END:VTIMEZONE
BEGIN:VEVENT
UID:3646443:Event:79265
DTSTAMP:20260420T112243Z
SUMMARY:2020 VIRTUAL Ag & Food Human Resources Roundtable
DESCRIPTION:Welcome to the first VIRTUAL Ag & Food HR Roundtable from 
 AgCareers.com. The Ag & Food HR Roundtable is a one-of-a-kind event fo
 r human resource professionals, university/college career services and
  faculty, and association representatives within agriculture and food.
  This is the 18th year AgCareers.com has held the Ag & Food Roundtable
 .\r\nDue to the COVID-19 pandemic, we are preparing for our very first
  virtual Roundtable event with topics around agricultural recruitment 
 and retention in a pandemic and post-pandemic world.\r\nWhile we canâ€
 ™t be together in-person, AgCareers.com plans to bring some normalcy t
 o the situation by providing quality educational content plus networki
 ng and connection opportunities.\r\nWe will be offering a virtual day-
 long live program, but also a series of on-demand content that can be 
 accessed at anytime as well as scheduled Table Topic networking sessio
 ns the following day. Your registration to the event gets you access t
 o all of these components as well as other supporting resources before
  and after the event!\r\nThis program will be submitted for recertific
 ation credits through SHRM and HRCI.\r\nMark your calendars for Wednes
 day, August 5 and plan to join us for a look into what the new normal 
 will look like for student and professional recruitment and workforce 
 management in the agriculture and food industry.\r\n*Plan ahead and SA
 VE! We hope to see you all in person at the 2021 AgCareers.com Ag & Fo
 od HR Roundtable, August 3 â€“ 5, 2021 in Omaha, NE. Special registrat
 ion offer included -- get this year's virtual event for just $75.\n\nF
 or more information visit https://ontag.farms.com/events/2020-virtual-
 ag-food-human-resources-roundtable
DTSTART;TZID=Pacific/Midway:20200805T093000
DTEND;TZID=Pacific/Midway:20200805T150000
CATEGORIES:hr, roundtable
LOCATION:Omaha, NE
WEBSITE:http://www.cvent.com/events/2020-virtual-north-american-ag-foo
 d-hr-roundtable/event-summary-f954255121864a79bf8b03ed434693a3.aspx
URL:http://www.cvent.com/events/2020-virtual-north-american-ag-food-hr
 -roundtable/event-summary-f954255121864a79bf8b03ed434693a3.aspx
CONTACT:
ORGANIZER:AgCareers.com
ATTACH;FMTTYPE="image/jpeg":
ATTENDEE;ROLE=REQ-PARTICIPANT;PARTSTAT=ACCEPTED;RSVP=TRUE;CN="OntAG Ad
 min":https://ontag.farms.com/profile/OntAGAdmin
END:VEVENT
END:VCALENDAR
