BEGIN:VCALENDAR
PRODID:NingEventWidget-v1
VERSION:2.0
METHOD:PUBLISH
BEGIN:VTIMEZONE
TZID:Pacific/Midway
X-LIC-LOCATION:Pacific/Midway
BEGIN:STANDARD
TZOFFSETFROM:-1100
TZOFFSETTO:-1100
TZNAME:SST
DTSTART:19700101T000000
END:STANDARD
END:VTIMEZONE
BEGIN:VEVENT
UID:3646443:Event:107564
DTSTAMP:20260421T105932Z
SUMMARY:2021 Bayfield Fair
DESCRIPTION:Welcome to our 165th Bayfield Fair. Think of the many chan
 ges with “Harvesting Memories, Planting the Future” this year.Take
  a walk down memory lane of over 165 years. What changes have there be
 en in growing your food?Enter crafts, baking, and displays. Greet old 
 and new friends. Enjoy the events.The fair book for 2021 is now availa
 ble to download.\n\nFor more information visit https://ontag.farms.com
 /events/2021-bayfield-fair
DTSTART;TZID=Pacific/Midway:20210820T170000
DTEND;TZID=Pacific/Midway:20210822T150000
CATEGORIES:fair
LOCATION:Online Event
WEBSITE:http://bayfieldfair.ca/
URL:http://bayfieldfair.ca/
CONTACT:Pamela Stanley - 519-482-9914
ORGANIZER:Bayfield Agricultural Society
ATTACH;FMTTYPE="image/jpeg":https://storage.ning.com/topology/rest/1.0
 /file/get/9320475455?profile=original
ATTENDEE;ROLE=REQ-PARTICIPANT;PARTSTAT=ACCEPTED;RSVP=TRUE;CN="OntAG Ad
 min":https://ontag.farms.com/profile/OntAGAdmin
END:VEVENT
END:VCALENDAR
