BEGIN:VCALENDAR
PRODID:NingEventWidget-v1
VERSION:2.0
METHOD:PUBLISH
BEGIN:VTIMEZONE
TZID:Pacific/Midway
X-LIC-LOCATION:Pacific/Midway
BEGIN:STANDARD
TZOFFSETFROM:-1100
TZOFFSETTO:-1100
TZNAME:SST
DTSTART:19700101T000000
END:STANDARD
END:VTIMEZONE
BEGIN:VEVENT
UID:3646443:Event:106121
DTSTAMP:20260422T033559Z
SUMMARY:2021 Farmland Forum
DESCRIPTION:\r\n\r\n\r\nJoin us for the 16th annual Farmland Forum - A
  day of sharing, networking, and exploring policy innovation and land-
 use planning for farmland protection and agricultural viability in Ont
 ario.\r\n\r\nWho should attend?\r\n\r\n\r\nFarmers\r\nLand use planner
 s\r\nResearchers\r\nProvincial policy makers\r\nMunicipal Councillors\
 r\nOther individuals and organizations interested in farmland conserva
 tion\r\n\r\n\r\n\r\n\r\n\r\n\r\n\r\n\n\nFor more information visit htt
 ps://ontag.farms.com/events/2021-farmland-forum
DTSTART;TZID=Pacific/Midway:20210325T083000
DTEND;TZID=Pacific/Midway:20210325T160000
CATEGORIES:farmland, forum
LOCATION:The Grand Guelph Banquet &amp; Event Centre
WEBSITE:https://www.canadahelps.org/en/charities/ontario-farmland-trus
 t/events/2021-farmland-forum/
URL:https://www.canadahelps.org/en/charities/ontario-farmland-trust/ev
 ents/2021-farmland-forum/
CONTACT:519-824-4120
ORGANIZER:Ontario Farmland Trust
ATTACH;FMTTYPE="image/jpeg":
ATTENDEE;ROLE=REQ-PARTICIPANT;PARTSTAT=ACCEPTED;RSVP=TRUE;CN="OntAG Ad
 min":https://ontag.farms.com/profile/OntAGAdmin
END:VEVENT
END:VCALENDAR
