BEGIN:VCALENDAR
PRODID:NingEventWidget-v1
VERSION:2.0
METHOD:PUBLISH
BEGIN:VTIMEZONE
TZID:Pacific/Midway
X-LIC-LOCATION:Pacific/Midway
BEGIN:STANDARD
TZOFFSETFROM:-1100
TZOFFSETTO:-1100
TZNAME:SST
DTSTART:19700101T000000
END:STANDARD
END:VTIMEZONE
BEGIN:VEVENT
UID:3646443:Event:109887
DTSTAMP:20260420T092142Z
SUMMARY:2022 International Plowing Match & Rural Expo
DESCRIPTION:Welcome to the IPM 2022 Website! Over the upcoming weeks a
 nd months, we will be adding lots of information about how to get invo
 lved or to plan your visit to the 2022 International Plowing Match & R
 ural Expo in Kempville, North Grenville, United Counties of Leeds and 
 Grenville - September 20 - 24,\n\nFor more information visit https://o
 ntag.farms.com/events/2022-international-plowing-match-rural-expo
DTSTART;TZID=Pacific/Midway:20220920T180000
DTEND;TZID=Pacific/Midway:20220924T190000
CATEGORIES:plowing, match, "&amp", rural, expo
LOCATION:Kempville
WEBSITE:https://www.plowingmatch.org/ipm2022/
URL:https://www.plowingmatch.org/ipm2022/
CONTACT:613-697-5209
ORGANIZER:ONTARIO PLOWMEN'S ASSOCIATION
ATTACH;FMTTYPE="image/jpeg":https://storage.ning.com/topology/rest/1.0
 /file/get/10442077299?profile=original
ATTENDEE;ROLE=REQ-PARTICIPANT;PARTSTAT=ACCEPTED;RSVP=TRUE;CN="OntAG Ad
 min":https://ontag.farms.com/profile/OntAGAdmin
END:VEVENT
END:VCALENDAR
