BEGIN:VCALENDAR
PRODID:NingEventWidget-v1
VERSION:2.0
METHOD:PUBLISH
BEGIN:VTIMEZONE
TZID:Pacific/Midway
X-LIC-LOCATION:Pacific/Midway
BEGIN:STANDARD
TZOFFSETFROM:-1100
TZOFFSETTO:-1100
TZNAME:SST
DTSTART:19700101T000000
END:STANDARD
END:VTIMEZONE
BEGIN:VEVENT
UID:3646443:Event:110093
DTSTAMP:20260420T035841Z
SUMMARY:2023 CPMA Convention and Trade Show
DESCRIPTION:The largest fresh produce event in the Canadian industry, 
 the CPMA Convention and Trade Show provides a unique opportunity for i
 ndustry leaders to enhance existing relationships and develop new busi
 ness opportunities in Canada. Our show regularly attracts key decision
 -makers and customers from all segments of the fresh produce supply ch
 ain. Participants include industry executives, category managers, gove
 rnment representatives, and countless other notable staff who are invo
 lved in the Canadian fresh fruit and vegetable sector.\n\nFor more inf
 ormation visit https://ontag.farms.com/events/2023-cpma-convention-and
 -trade-show
DTSTART;TZID=Pacific/Midway:20230425T090000
DTEND;TZID=Pacific/Midway:20230427T170000
CATEGORIES:trade, show
LOCATION:Metro Toronto Convention Centre
WEBSITE:https://convention.cpma.ca/exhibit/why-exhibit-at-cpma-2023
URL:https://convention.cpma.ca/exhibit/why-exhibit-at-cpma-2023
CONTACT:(+1) 613-226-4187 x233, (+1) 613-218-3832 (cell)
ORGANIZER:CPMA
ATTACH;FMTTYPE="image/jpeg":https://storage.ning.com/topology/rest/1.0
 /file/get/10784457459?profile=original
ATTENDEE;ROLE=REQ-PARTICIPANT;PARTSTAT=ACCEPTED;RSVP=TRUE;CN="OntAG Ad
 min":https://ontag.farms.com/profile/OntAGAdmin
END:VEVENT
END:VCALENDAR
