BEGIN:VCALENDAR
PRODID:NingEventWidget-v1
VERSION:2.0
METHOD:PUBLISH
BEGIN:VTIMEZONE
TZID:Pacific/Midway
X-LIC-LOCATION:Pacific/Midway
BEGIN:STANDARD
TZOFFSETFROM:-1100
TZOFFSETTO:-1100
TZNAME:SST
DTSTART:19700101T000000
END:STANDARD
END:VTIMEZONE
BEGIN:VEVENT
UID:3646443:Event:111410
DTSTAMP:20260421T080823Z
SUMMARY:2023 ONFARM Forum
DESCRIPTION:Register today for the virtual 2023 ONFARM Forum!\nJoin th
 e Ontario Soil & Crop Improvement Association (OSCIA) on Thursday, Feb
 ruary 9th to celebrate three seasons of on-farm research through the 
 On-Farm Applied Research and Monitoring (ONFARM) program!\nDuring this
  informative and engaging event, you will learn about soil health indi
 cators, water quality monitoring and modeling, and beneficial manageme
 nt practices like cover cropping and organic amendments. You will hear
  from farmers, researchers, and conservation authority representatives
  actively involved in this on-farm research across Ontario.\nRegister 
 for free here.\nFor more information, contact ONFARM@ontariosoilcrop.
 org\n\nFor more information visit https://ontag.farms.com/events/2023-
 onfarm-forum
DTSTART;TZID=Pacific/Midway:20230209T090000
DTEND;TZID=Pacific/Midway:20230209T120000
CATEGORIES:virtual, conference
LOCATION:Virtual (Zoom)
WEBSITE:https://www.osciaresearch.org/onfarm-applied-research/onfarm-f
 orum/
URL:https://www.osciaresearch.org/onfarm-applied-research/onfarm-forum
 /
CONTACT:2269348297
ORGANIZER:Ontario Soil and Crop Improvement Association
ATTACH;FMTTYPE="image/jpeg":https://storage.ning.com/topology/rest/1.0
 /file/get/10948550296?profile=original
ATTENDEE;ROLE=REQ-PARTICIPANT;PARTSTAT=ACCEPTED;RSVP=TRUE;CN="Madeline
  Rodrigue":https://ontag.farms.com/profile/MadelineRodrigue
END:VEVENT
END:VCALENDAR
