BEGIN:VCALENDAR
PRODID:NingEventWidget-v1
VERSION:2.0
METHOD:PUBLISH
BEGIN:VTIMEZONE
TZID:Pacific/Midway
X-LIC-LOCATION:Pacific/Midway
BEGIN:STANDARD
TZOFFSETFROM:-1100
TZOFFSETTO:-1100
TZNAME:SST
DTSTART:19700101T000000
END:STANDARD
END:VTIMEZONE
BEGIN:VEVENT
UID:3646443:Event:113578
DTSTAMP:20260421T145552Z
SUMMARY:2024 AALP Dream Gala Spring Event Unveiled
DESCRIPTION:In celebration of AALP's 40th year, AALP Class 19 & 20 ar
 e excited to announce the theme of the 2024 AALP Dream Gala is the R
 oaring Twenties?  The Rural Ontario Institute (ROI) is pleased to anno
 unce this year’s Advanced Agricultural Leadership Program (AALP) Dre
 am Gala and Auction will be held on April 13, 2024. AALP Class 19 and 
 Class 20 invite you to experience a night of elegance in “The Roarin
 g Twenties.”\r\nThis year AALP is celebrating 40 years of building t
 op ag-sector leaders and will welcome over 300 of the province’s agr
 iculture enthusiasts to celebrate while supporting leadership developm
 ent. This year’s event features a semi-formal dinner and live auctio
 n at the Delta Hotel in Guelph.\n\nFor more information visit https://
 ontag.farms.com/events/2024-aalp-dream-gala-spring-event-unveiled
DTSTART;TZID=Pacific/Midway:20240413T000000
DTEND;TZID=Pacific/Midway:20240413T235900
CATEGORIES:agricultural, leadership, program
LOCATION:Delta Hotels by Marriott Guelph Conference Centre
WEBSITE:https://www.ruralontarioinstitute.ca/events
URL:https://www.ruralontarioinstitute.ca/events
CONTACT:
ORGANIZER:Rural Ontario Institute (ROI)
ATTACH;FMTTYPE="image/jpeg":https://storage.ning.com/topology/rest/1.0
 /file/get/12368615667?profile=original
ATTENDEE;ROLE=REQ-PARTICIPANT;PARTSTAT=ACCEPTED;RSVP=TRUE;CN="OntAG Ad
 min":https://ontag.farms.com/profile/OntAGAdmin
END:VEVENT
END:VCALENDAR
