BEGIN:VCALENDAR
PRODID:NingEventWidget-v1
VERSION:2.0
METHOD:PUBLISH
BEGIN:VTIMEZONE
TZID:Pacific/Midway
X-LIC-LOCATION:Pacific/Midway
BEGIN:STANDARD
TZOFFSETFROM:-1100
TZOFFSETTO:-1100
TZNAME:SST
DTSTART:19700101T000000
END:STANDARD
END:VTIMEZONE
BEGIN:VEVENT
UID:3646443:Event:113278
DTSTAMP:20260419T175804Z
SUMMARY:2024 International Plowing Match & Rural Expo
DESCRIPTION:the International Plowing Match and Rural Expo (IPM) is a 
 five-day celebration of agriculture and rural living. There are plowin
 g competitions, a range of activities for people of all ages, numerous
  opportunities to learn about agriculture, near-constant live entertai
 nment in multiple Match venues, hundreds of vendors and exhibitors (la
 rge and small equipment, lifestyle items and much more), a wide variet
 y of food, an RV Park … the list goes on.\n\nFor more information vi
 sit https://ontag.farms.com/events/2024-international-plowing-match-ru
 ral-expo
DTSTART;TZID=Pacific/Midway:20241001T083000
DTEND;TZID=Pacific/Midway:20241005T170000
CATEGORIES:rural, expo
LOCATION:Kawartha lakes
WEBSITE:https://www.plowingmatch.org/ipm2024/about-us/what-is-the-ipm/
URL:https://www.plowingmatch.org/ipm2024/about-us/what-is-the-ipm/
CONTACT:
ORGANIZER:IPM
ATTACH;FMTTYPE="image/jpeg":https://storage.ning.com/topology/rest/1.0
 /file/get/12345414301?profile=original
ATTENDEE;ROLE=REQ-PARTICIPANT;PARTSTAT=ACCEPTED;RSVP=TRUE;CN="OntAG Ad
 min":https://ontag.farms.com/profile/OntAGAdmin
END:VEVENT
END:VCALENDAR
