BEGIN:VCALENDAR
PRODID:NingEventWidget-v1
VERSION:2.0
METHOD:PUBLISH
BEGIN:VTIMEZONE
TZID:Pacific/Midway
X-LIC-LOCATION:Pacific/Midway
BEGIN:STANDARD
TZOFFSETFROM:-1100
TZOFFSETTO:-1100
TZNAME:SST
DTSTART:19700101T000000
END:STANDARD
END:VTIMEZONE
BEGIN:VEVENT
UID:3646443:Event:113282
DTSTAMP:20260419T005133Z
SUMMARY:2024 Ontario Potato Conference and Trade Show
DESCRIPTION:The Trade Show promises to be as interesting as ever. Lunc
 h, coffee breaks and parking will be included in the registration fee.
  Agenda to follow. See conference flyer below. Conference is supported
  by the Ontario Potato Board.\r\n \n\nFor more information visit https
 ://ontag.farms.com/events/2024-ontario-potato-conference-and-trade-sho
 w
DTSTART;TZID=Pacific/Midway:20240229T000000
DTEND;TZID=Pacific/Midway:20240229T235900
CATEGORIES:conference
LOCATION:Delta hotel and conference center
WEBSITE:https://onvegetables.com/2023/12/07/2024-ontario-potato-confer
 ence-and-trade-show/
URL:https://onvegetables.com/2023/12/07/2024-ontario-potato-conference
 -and-trade-show/
CONTACT:
ORGANIZER:Ontario potato board
ATTACH;FMTTYPE="image/jpeg":https://storage.ning.com/topology/rest/1.0
 /file/get/12345419666?profile=original
ATTENDEE;ROLE=REQ-PARTICIPANT;PARTSTAT=ACCEPTED;RSVP=TRUE;CN="OntAG Ad
 min":https://ontag.farms.com/profile/OntAGAdmin
END:VEVENT
END:VCALENDAR
