BEGIN:VCALENDAR
PRODID:NingEventWidget-v1
VERSION:2.0
METHOD:PUBLISH
BEGIN:VTIMEZONE
TZID:Pacific/Midway
X-LIC-LOCATION:Pacific/Midway
BEGIN:STANDARD
TZOFFSETFROM:-1100
TZOFFSETTO:-1100
TZNAME:SST
DTSTART:19700101T000000
END:STANDARD
END:VTIMEZONE
BEGIN:VEVENT
UID:3646443:Event:1122
DTSTAMP:20260422T023653Z
SUMMARY:25 Year Celebration of AALP
DESCRIPTION:Join us tomorrow for the ‘25 Year Celebration of AALP’
  at Canada’s Outdoor Farm Show (COFS) in Woodstock.\n\nTuesday Septe
 mber 15, 2009\n\nReception - 3:00 p.m. to 5:00 p.m.\n\nBayer CropScien
 ce Tent (5th Lane South)\n\nWe look forward to seeing you!\n\nFor more
  information visit https://ontag.farms.com/events/25-year-celebration-
 of-aalp
DTSTART;TZID=Pacific/Midway:20090915T150000
DTEND;TZID=Pacific/Midway:20090915T170000
CATEGORIES:reception
LOCATION:Canada's Outdoor Farm Show
WEBSITE:http://www.aalp.on.ca
URL:http://www.aalp.on.ca
CONTACT:519-826-4204
ORGANIZER;CN=AALP:https://ontag.farms.com/profile/AALP
ATTACH;FMTTYPE="image/jpeg":http://storage.ning.com/topology/rest/1.0/
 file/get/1091498375?profile=original
ATTENDEE;ROLE=REQ-PARTICIPANT;PARTSTAT=ACCEPTED;RSVP=TRUE;CN=AALP:http
 s://ontag.farms.com/profile/AALP
END:VEVENT
END:VCALENDAR
