BEGIN:VCALENDAR
PRODID:NingEventWidget-v1
VERSION:2.0
METHOD:PUBLISH
BEGIN:VTIMEZONE
TZID:Pacific/Midway
X-LIC-LOCATION:Pacific/Midway
BEGIN:STANDARD
TZOFFSETFROM:-1100
TZOFFSETTO:-1100
TZNAME:SST
DTSTART:19700101T000000
END:STANDARD
END:VTIMEZONE
BEGIN:VEVENT
UID:3646443:Event:101918
DTSTAMP:20260420T194614Z
SUMMARY:3 steps to a personal money strategy
DESCRIPTION:You spend a great deal of time and energy to make money in
  Your farm or agribusiness. But how much effort do you put into how yo
 u spend and save?\r\nFCC virtual events are aimed at helping producers
  improve their management skills, get information and insights from le
 ading farm management experts, and gain a deeper understanding of the 
 business of agriculture.\r\nFor media, there may be opportunities for 
 you to explore some of the topics or talk directly to some of the pres
 enters. Short segments of these presentations may also be recorded for
  rebroadcast with permission of the presenter, which we will coordinat
 e upon request.\r\nThe events are free and the online registration end
 s at 9:00 A.M. ET the day of the event. Consider adding these events t
 o your calendar by visiting www.fcc.ca/events.\n\nFor more informatio
 n visit https://ontag.farms.com/events/3-steps-to-a-personal-money-str
 ategy
DTSTART;TZID=Pacific/Midway:20201117T140000
DTEND;TZID=Pacific/Midway:20201117T150000
CATEGORIES:webinar
LOCATION:Online Event
WEBSITE:https://www.eventbrite.ca/e/3-steps-to-a-personal-money-strate
 gy-registration-122156233583
URL:https://www.eventbrite.ca/e/3-steps-to-a-personal-money-strategy-r
 egistration-122156233583
CONTACT:
ORGANIZER:FCC
ATTACH;FMTTYPE="image/jpeg":
ATTENDEE;ROLE=REQ-PARTICIPANT;PARTSTAT=ACCEPTED;RSVP=TRUE;CN="OntAG Ad
 min":https://ontag.farms.com/profile/OntAGAdmin
END:VEVENT
END:VCALENDAR
