BEGIN:VCALENDAR
PRODID:NingEventWidget-v1
VERSION:2.0
METHOD:PUBLISH
BEGIN:VTIMEZONE
TZID:Pacific/Midway
X-LIC-LOCATION:Pacific/Midway
BEGIN:STANDARD
TZOFFSETFROM:-1100
TZOFFSETTO:-1100
TZNAME:SST
DTSTART:19700101T000000
END:STANDARD
END:VTIMEZONE
BEGIN:VEVENT
UID:3646443:Event:67983
DTSTAMP:20260422T185741Z
SUMMARY:36 Annual Guelph Organic Conference & Trade Show
DESCRIPTION:Guelph welcomes everyone so take a mid-winter break at the
  University Centre.  \nThis Conference always wants to be on the lead
 ing edge of the movement, so come out and see what’s new !    Rebec
 ca – Local Liason  Email:  goclocal@gmail.com   \n\nFor more inf
 ormation visit https://ontag.farms.com/events/36-annual-guelph-organic
 -conference-trade-show
DTSTART;TZID=Pacific/Midway:20170126T090000
DTEND;TZID=Pacific/Midway:20170129T210000
CATEGORIES:conferance, "&", trade, show
LOCATION:Guelph University Centre
WEBSITE:http://guelphorganicconf.ca/location/
URL:http://guelphorganicconf.ca/location/
CONTACT:519-824-4120 x56311
ORGANIZER;CN="OntAG Admin":https://ontag.farms.com/profile/OntAGAdmin
ATTACH;FMTTYPE="image/jpeg":http://storage.ning.com/topology/rest/1.0/
 file/get/1091547961?profile=original
ATTENDEE;ROLE=REQ-PARTICIPANT;PARTSTAT=ACCEPTED;RSVP=TRUE;CN="OntAG Ad
 min":https://ontag.farms.com/profile/OntAGAdmin
END:VEVENT
END:VCALENDAR
