BEGIN:VCALENDAR
PRODID:NingEventWidget-v1
VERSION:2.0
METHOD:PUBLISH
BEGIN:VTIMEZONE
TZID:Pacific/Midway
X-LIC-LOCATION:Pacific/Midway
BEGIN:STANDARD
TZOFFSETFROM:-1100
TZOFFSETTO:-1100
TZNAME:SST
DTSTART:19700101T000000
END:STANDARD
END:VTIMEZONE
BEGIN:VEVENT
UID:3646443:Event:101402
DTSTAMP:20260423T061850Z
SUMMARY:Cover Crop Grazing 2020 (Online) - The Costs and Financial Ben
 efits of Grazing Cover Crops
DESCRIPTION:Grazing Cover Crops 2020 is going online this year. Join u
 s and hear from sheep and beef producers across Ontario discuss the be
 nefits of grazing cover crops. Each webinar will also feature a presen
 tation from an OMAFRA specialist.\r\nNovember 10 (7pm - 8pm) - Using A
 nnual Forages to Extend the Grazing Season\r\nKim Sytsma (Leeds) with 
 Christine O’Reilly, Forage and Grazing Specialist\r\nNovember 17 (7p
 m – 8pm) - Grazing Cover Crops with Sheep\r\nMike Swiderky (Dufferin
 ) with Jake Munroe, Soil Management Specialist\r\nNovember 24 (7pm - 8
 pm) - The Costs and Financial Benefits of Grazing Cover Crops\r\nMike 
 Buis (Chatham) with John Molenhuis, Business Analysis and Cost of Prod
 uction Program Lead\r\nPlease note that registration provides you with
  access to all 3 webinars.Click here to register\n\nFor more informati
 on visit https://ontag.farms.com/events/3646443:Event:101402
DTSTART;TZID=Pacific/Midway:20201124T190000
DTEND;TZID=Pacific/Midway:20201124T200000
CATEGORIES:webinar
LOCATION:Online
WEBSITE:https://www.eventbrite.ca/e/cover-crop-grazing-2020-online-tic
 kets-123485826431
URL:https://www.eventbrite.ca/e/cover-crop-grazing-2020-online-tickets
 -123485826431
CONTACT:
ORGANIZER:by OMAFRA, BFO, OSF
ATTACH;FMTTYPE="image/jpeg":
ATTENDEE;ROLE=REQ-PARTICIPANT;PARTSTAT=ACCEPTED;RSVP=TRUE;CN="OntAG Ad
 min":https://ontag.farms.com/profile/OntAGAdmin
END:VEVENT
END:VCALENDAR
