BEGIN:VCALENDAR
PRODID:NingEventWidget-v1
VERSION:2.0
METHOD:PUBLISH
BEGIN:VTIMEZONE
TZID:Pacific/Midway
X-LIC-LOCATION:Pacific/Midway
BEGIN:STANDARD
TZOFFSETFROM:-1100
TZOFFSETTO:-1100
TZNAME:SST
DTSTART:19700101T000000
END:STANDARD
END:VTIMEZONE
BEGIN:VEVENT
UID:3646443:Event:18512
DTSTAMP:20260421T204847Z
SUMMARY:3-Day off-Grid Solar PV Workshop
DESCRIPTION:This 3-day Off-grid PV Workshop will simplify the complex 
 world of off-grid systems. Independent power systems can offer a cost-
 effective alternative. This workshop will cover stand-alone solar syst
 em design including load assessment, component sizing and appropriate 
 equipment choices. Details concerning battery care and safety will be 
 offered along with guidance regarding back-up generators. Students wil
 l get a sense of the on-going system maintenance and lifestyle require
 ments of off-grid living.\nThe workshop will constitute both theoretic
 al and practical sessions ending with a competency examination.\n\nFor
  more information visit https://ontag.farms.com/events/3day-offgrid-so
 lar-pv-workshop
DTSTART;TZID=Pacific/Midway:20110808T180000
DTEND;TZID=Pacific/Midway:20110810T190000
CATEGORIES:off-grid, solar, pv, workshop
LOCATION:Vaughan, Ontario
WEBSITE:http://www.solarinstitute.ca
URL:http://www.solarinstitute.ca
CONTACT:416-831-9960
ORGANIZER;CN="Canadian Solar Institute":https://ontag.farms.com/profil
 e/CdnSolarInstitute
ATTACH;FMTTYPE="image/jpeg":
ATTENDEE;ROLE=REQ-PARTICIPANT;PARTSTAT=ACCEPTED;RSVP=TRUE;CN="Canadian
  Solar Institute":https://ontag.farms.com/profile/CdnSolarInstitute
END:VEVENT
END:VCALENDAR
