BEGIN:VCALENDAR
PRODID:NingEventWidget-v1
VERSION:2.0
METHOD:PUBLISH
BEGIN:VTIMEZONE
TZID:Pacific/Midway
X-LIC-LOCATION:Pacific/Midway
BEGIN:STANDARD
TZOFFSETFROM:-1100
TZOFFSETTO:-1100
TZNAME:SST
DTSTART:19700101T000000
END:STANDARD
END:VTIMEZONE
BEGIN:VEVENT
UID:3646443:Event:7461
DTSTAMP:20260419T071406Z
SUMMARY:3rd Annual Canadian Farm & Food Biogas Conference
DESCRIPTION:Interest in biogas production, in the farm, food processin
 g and rural sectors, is expanding. The Canadian Farm and Food Biogas C
 onference, February 28 – March 1, 2011 will provide the occasion to 
 learn about new research, technologies, projects and programs, includi
 ng opportunities to use off-farm source organics, that are part of thi
 s growth field.\n\nFor more information visit https://ontag.farms.com/
 events/3rd-annual-canadian-farm-food
DTSTART;TZID=Pacific/Midway:20110228T000000
DTEND;TZID=Pacific/Midway:20110302T235900
CATEGORIES:conference
LOCATION:London Convention Centre
WEBSITE:http://www.biogasconference.ca
URL:http://www.biogasconference.ca
CONTACT:416-426-7029
ORGANIZER:Biogas Conference
ATTACH;FMTTYPE="image/jpeg":http://storage.ning.com/topology/rest/1.0/
 file/get/1091505674?profile=original
ATTENDEE;ROLE=REQ-PARTICIPANT;PARTSTAT=ACCEPTED;RSVP=TRUE;CN="Richard 
 Hamilton":https://ontag.farms.com/profile/RichardHamilton
ATTENDEE;ROLE=REQ-PARTICIPANT;PARTSTAT=TENTATIVE;RSVP=TRUE;CN="OntAG A
 dmin":https://ontag.farms.com/profile/OntAGAdmin
END:VEVENT
END:VCALENDAR
