BEGIN:VCALENDAR
PRODID:NingEventWidget-v1
VERSION:2.0
METHOD:PUBLISH
BEGIN:VTIMEZONE
TZID:Pacific/Midway
X-LIC-LOCATION:Pacific/Midway
BEGIN:STANDARD
TZOFFSETFROM:-1100
TZOFFSETTO:-1100
TZNAME:SST
DTSTART:19700101T000000
END:STANDARD
END:VTIMEZONE
BEGIN:VEVENT
UID:3646443:Event:78399
DTSTAMP:20260423T090651Z
SUMMARY:40th East Central Farm Show
DESCRIPTION:The 40th annual East Central Farm Show will take place in 
 the Commonwell Exhibition Building at the Lindsay, Ontario Fairgrounds
 . The only show of its kind between London and Ottawa, the event happe
 ns on Wednesday, March 4th and Thursday, March 5th, 2020.\r\nOver 175 
 exhibitors from across Ontario will be on hand to present the latest i
 n agricultural products to the farming community. There are always new
  exhibitors in the show adding more choices to visit. The exhibitor li
 st includes a wide range of agribusinesses from across Ontario aimed a
 t the farming community. Farm technology and farm equipment dealers, c
 rop input and soil management companies, livestock feed suppliers, far
 m organizations, and more. Additional services aimed at the agricultur
 al industry include insurance, financial and program service companies
 .\r\nWednesday March 4th, 9:30 am to 9 pmThursday March 5th, 9:30 am t
 o 4 pm\r\nAdmission: General admission is $5, with current Soil and Cr
 op members admitted free. Memberships, which cost $20, are available a
 t the door.\r\nMore information: Please contact Neil Moore, Secretary 
 Treasurer, phone 705-324-2594, nmoore361@gmail.com or visit https://re
 gionalscia.org/ecfs-html/\n\nFor more information visit https://ontag.
 farms.com/events/40th-east-central-farm-show
DTSTART;TZID=Pacific/Midway:20200304T093000
DTEND;TZID=Pacific/Midway:20200305T160000
CATEGORIES:farm, show
LOCATION:Commonwell Exhibition Building
WEBSITE:https://www.lindsayex.com/event/40th-east-central-farm-show/
URL:https://www.lindsayex.com/event/40th-east-central-farm-show/
CONTACT:705-324-2594
ORGANIZER:Lindsayex
ATTACH;FMTTYPE="image/jpeg":
ATTENDEE;ROLE=REQ-PARTICIPANT;PARTSTAT=ACCEPTED;RSVP=TRUE;CN="OntAG Ad
 min":https://ontag.farms.com/profile/OntAGAdmin
END:VEVENT
END:VCALENDAR
