BEGIN:VCALENDAR
PRODID:NingEventWidget-v1
VERSION:2.0
METHOD:PUBLISH
BEGIN:VTIMEZONE
TZID:Pacific/Midway
X-LIC-LOCATION:Pacific/Midway
BEGIN:STANDARD
TZOFFSETFROM:-1100
TZOFFSETTO:-1100
TZNAME:SST
DTSTART:19700101T000000
END:STANDARD
END:VTIMEZONE
BEGIN:VEVENT
UID:3646443:Event:35367
DTSTAMP:20260421T002135Z
SUMMARY:47th Annual Grey Bruce Famers' Week 2013
DESCRIPTION:\n\n\nFor more information visit https://ontag.farms.com/e
 vents/47th-annual-grey-bruce-famers-week-2013
DTSTART;TZID=Pacific/Midway:20130103T000000
DTEND;TZID=Pacific/Midway:20130109T235900
CATEGORIES:agricultural, conference, "&", tradeshow
LOCATION:Elmwood Community Centre
WEBSITE:http://www.greyagservices.ca
URL:http://www.greyagservices.ca
CONTACT:519-986-3756
ORGANIZER:Grey County Agricultural Services
ATTACH;FMTTYPE="image/jpeg":http://storage.ning.com/topology/rest/1.0/
 file/get/1091520564?profile=original
ATTENDEE;ROLE=REQ-PARTICIPANT;PARTSTAT=ACCEPTED;RSVP=TRUE;CN="Grey Bru
 ce Farmers' Week":https://ontag.farms.com/profile/GreyBruceFarmersWeek
END:VEVENT
END:VCALENDAR
