BEGIN:VCALENDAR
PRODID:NingEventWidget-v1
VERSION:2.0
METHOD:PUBLISH
BEGIN:VTIMEZONE
TZID:Pacific/Midway
X-LIC-LOCATION:Pacific/Midway
BEGIN:STANDARD
TZOFFSETFROM:-1100
TZOFFSETTO:-1100
TZNAME:SST
DTSTART:19700101T000000
END:STANDARD
END:VTIMEZONE
BEGIN:VEVENT
UID:3646443:Event:33249
DTSTAMP:20260422T090819Z
SUMMARY:4R Nutrient Stewardship - Grand River Watershed Project Launch
DESCRIPTION:\nPROJECT AND EVENT DETAILS\nProtecting water quality is a
  vital issue for the 39 municipalities and 1 million residents in the 
 Grand River Watershed. This region of Ontario also represents some of 
 the province's most viable and productive farmland. Land use and water
  quality concerns are a shared priority. A new partnership of farmers,
  scientists, agri-business leaders, municipal leaders, and conservatio
 n experts are working together to bring innovative farming methods int
 o practice - using Agri-INNOVATIONS by ClimateCHECK. Together, our ef
 forts will help guide the growth of agriculture for the benefit of all
  watershed stakeholders.  Join regional leaders and crop advisers to l
 earn how 4R Nutrient Stewardship will support on-farm Beneficial Manag
 ement Practices. The 4R concept guides farmers in using the Right fert
 ilizer source; at the Right rate; at the Right time; and in the Right 
 place ©.  This project is supported by the Canadian Fertilizer Insti
 tute and the Ontario Centres of Excellence Social Innovation Program- 
 Environment & Sustainability.  Notable Speakers and Honorable Guests: 
 - Bruce Ringrose, VP Business Development, ClimateCHECK - Norman Beug,
  Canadian Fertilizer Institute Chair - Dr. Tania Massa, Director, Prog
 rams, OCE - Keith Currie, Executive Committee Member, OFA - Jane Mitch
 ell, GRCA Chair - Dr. Dave Rudolph, The Water Institute at the Univers
 ity of Waterloo - Dr. John FitzGibbon, Professor, University of Guelph
   RSVP now by email to Ben Lemire BL@climate-check.com or phone 613-24
 1-8000 ext.216\n \n\nFor more information visit https://ontag.farms.c
 om/events/4r-nutrient-stewardship-grand-river-watershed-project-launch
DTSTART;TZID=Pacific/Midway:20120823T103000
DTEND;TZID=Pacific/Midway:20120823T120000
CATEGORIES:nutrient, bmps, -, project, launch
LOCATION:Grand River Conservation Authority
WEBSITE:https://collaborase.com/Farming4RWatershed
URL:https://collaborase.com/Farming4RWatershed
CONTACT:613-240-8000 ext 216
ORGANIZER:Ben Lemire, ClimateCHECK
ATTACH;FMTTYPE="image/jpeg":http://storage.ning.com/topology/rest/1.0/
 file/get/1091517287?profile=original
ATTENDEE;ROLE=REQ-PARTICIPANT;PARTSTAT=ACCEPTED;RSVP=TRUE;CN="Janice H
 all":https://ontag.farms.com/profile/JaniceHall
END:VEVENT
END:VCALENDAR
