BEGIN:VCALENDAR
PRODID:NingEventWidget-v1
VERSION:2.0
METHOD:PUBLISH
BEGIN:VTIMEZONE
TZID:Pacific/Midway
X-LIC-LOCATION:Pacific/Midway
BEGIN:STANDARD
TZOFFSETFROM:-1100
TZOFFSETTO:-1100
TZNAME:SST
DTSTART:19700101T000000
END:STANDARD
END:VTIMEZONE
BEGIN:VEVENT
UID:3646443:Event:67864
DTSTAMP:20260421T155323Z
SUMMARY:51st Annual Grey Bruce Farmers' Week,
DESCRIPTION:  38 Queen St W.\n\nCrops DayProfessional Development - 3
   Soil and Water management - 1\nEco DayCrop Management - 1.5  Soil 
 & Water management - 1  Professional Development – 2\nSheep DayCrop
  Management - .5 \nBeef DayCrop Management - 1\n---------------------
 ---------\nBeef Day Jan 4; Dairy Day Jan 5; Goat Day Jan 6; Sheep Day 
 Jan 7; Horse Day Jan 8; Eco Day Jan 9; and Crops Day Jan 10. Contact:
  519-986-3756,www.greyagservices.ca and click on the GBFW tab\n\nFor 
 more information visit https://ontag.farms.com/events/51st-annual-grey
 -bruce-farmers-week
DTSTART;TZID=Pacific/Midway:20170104T180000
DTEND;TZID=Pacific/Midway:20170107T190000
CATEGORIES:"farmers'", week
LOCATION:Elmwood Community Centre
WEBSITE:http://www.greyagservices.ca/index.php/grey-bruce-farmer-s-wee
 k/directions
URL:http://www.greyagservices.ca/index.php/grey-bruce-farmer-s-week/di
 rections
CONTACT:519-363-2459
ORGANIZER;CN="OntAG Admin":https://ontag.farms.com/profile/OntAGAdmin
ATTACH;FMTTYPE="image/jpeg":
ATTENDEE;ROLE=REQ-PARTICIPANT;PARTSTAT=ACCEPTED;RSVP=TRUE;CN="OntAG Ad
 min":https://ontag.farms.com/profile/OntAGAdmin
END:VEVENT
END:VCALENDAR
