BEGIN:VCALENDAR
PRODID:NingEventWidget-v1
VERSION:2.0
METHOD:PUBLISH
BEGIN:VTIMEZONE
TZID:Pacific/Midway
X-LIC-LOCATION:Pacific/Midway
BEGIN:STANDARD
TZOFFSETFROM:-1100
TZOFFSETTO:-1100
TZNAME:SST
DTSTART:19700101T000000
END:STANDARD
END:VTIMEZONE
BEGIN:VEVENT
UID:3646443:Event:71473
DTSTAMP:20260423T174411Z
SUMMARY:52nd Annual Grey Bruce Farmers’ Week 2018
DESCRIPTION:Grey Bruce Farmers’ Week (#GBFW18), in its 52nd year, wi
 ll run from Wednesday, January 3rd to Tuesday, January 9th, starting w
 ith Beef Day, and ending with Crops Day.  It is a 7 day Agricultural 
 Conference packed with a most impressive and informative line-up of sp
 eakers!  \r\nThe individual days are as follows:\r\nBeef Day - Wednes
 day, January 3, 2018\r\nDairy Day - Thursday, January 4, 2018\r\nGoat 
 Day - Friday, January 5, 2018\r\nSheep Day - Saturday, January 6, 2018
 \r\nHorse Day - Sunday, January 7, 2018\r\nEcological Day - Monday, Ja
 nuary 8, 2018\r\nCrops Day - Tuesday, January 9, 2018\r\nFor more deta
 ils on the speakers planned for each day, please refer to the Grey Bru
 ce Farmers’ Week pages on the Grey Ag website.  If you need detaile
 d information about any of the presentations, or complete bios, that i
 nformation is also available on the website (www.greyagservices.ca).\n
 \nFor more information visit https://ontag.farms.com/events/52nd-annua
 l-grey-bruce-farmers-week-2018
DTSTART;TZID=Pacific/Midway:20180103T000000
DTEND;TZID=Pacific/Midway:20180109T235900
CATEGORIES:agricultural, event
LOCATION:Elmwood Community Centre
WEBSITE:http://www.greyagservices.ca/index.php/grey-bruce-farmer-s-wee
 k/program
URL:http://www.greyagservices.ca/index.php/grey-bruce-farmer-s-week/pr
 ogram
CONTACT:(519) 986-3756
ORGANIZER:Grey Agricultural Services
ATTACH;FMTTYPE="image/jpeg":http://storage.ning.com/topology/rest/1.0/
 file/get/1091550294?profile=original
ATTENDEE;ROLE=REQ-PARTICIPANT;PARTSTAT=ACCEPTED;RSVP=TRUE;CN="OntAG Ad
 min":https://ontag.farms.com/profile/OntAGAdmin
END:VEVENT
END:VCALENDAR
