BEGIN:VCALENDAR
PRODID:NingEventWidget-v1
VERSION:2.0
METHOD:PUBLISH
BEGIN:VTIMEZONE
TZID:Pacific/Midway
X-LIC-LOCATION:Pacific/Midway
BEGIN:STANDARD
TZOFFSETFROM:-1100
TZOFFSETTO:-1100
TZNAME:SST
DTSTART:19700101T000000
END:STANDARD
END:VTIMEZONE
BEGIN:VEVENT
UID:3646443:Event:19068
DTSTAMP:20260419T131629Z
SUMMARY:5-Day Solar PV Design & Installation Workshop
DESCRIPTION:This workshop covers fundamental knowledge and reviews the
  design, installation, and evaluation of residential and commercial so
 lar photovoltaic (PV) systems. The solar training includes the use of 
 various tools and techniques, solar electric component operation and c
 onnection, system design and sizing, financial modelling, safety pract
 ices including fall arrest and other standard requirements and practic
 es. The course guides students from system fundamentals to advanced me
 chanical and electrical concepts in accordance with code, regulations 
 and safety. This workshop is designed for beginners and professionals 
 alike: electricians, HVAC technicians, carpenters, contractors, engine
 ers or manufacturer and distributor representatives.\n\nFor more infor
 mation visit https://ontag.farms.com/events/5day-solar-pv-design-1
DTSTART;TZID=Pacific/Midway:20110727T000000
DTEND;TZID=Pacific/Midway:20110731T235900
CATEGORIES:solar, pv, workshop
LOCATION:Vaughan, Ontario
WEBSITE:http://www.solarinstitute.ca
URL:http://www.solarinstitute.ca
CONTACT:416-831-9960
ORGANIZER;CN="Canadian Solar Institute":https://ontag.farms.com/profil
 e/CdnSolarInstitute
ATTACH;FMTTYPE="image/jpeg":
ATTENDEE;ROLE=REQ-PARTICIPANT;PARTSTAT=ACCEPTED;RSVP=TRUE;CN="Canadian
  Solar Institute":https://ontag.farms.com/profile/CdnSolarInstitute
END:VEVENT
END:VCALENDAR
