BEGIN:VCALENDAR
PRODID:NingEventWidget-v1
VERSION:2.0
METHOD:PUBLISH
BEGIN:VTIMEZONE
TZID:Pacific/Midway
X-LIC-LOCATION:Pacific/Midway
BEGIN:STANDARD
TZOFFSETFROM:-1100
TZOFFSETTO:-1100
TZNAME:SST
DTSTART:19700101T000000
END:STANDARD
END:VTIMEZONE
BEGIN:VEVENT
UID:3646443:Event:7075
DTSTAMP:20260422T200710Z
SUMMARY:5-Day Solar PV Design & Installation Workshop
DESCRIPTION:Jan 26th - Jan 30th Workshop - FULL\nNow Registering for F
 eb 23rd - 27th, 2011\nThis workshop is designed to provide participant
 s with the knowledge and tools required to grasp both business and tec
 hnical aspects of solar photovoltaic integration. Students will be imm
 ersed in the specifics of grid tied solar photovoltaic design and inst
 allation; utility and Electrical Safety Authority protocol; and safety
  & best practice procedures. In addition, the student will be afforded
  in depth analysis of the Ontario solar market and its main driver the
  Ontario Power Authorities Feed In Tariff program.CREA believes that r
 enewable energy and sustainable practices will provide an ever increas
 ing source of “green collar jobs” here in Ontario and across Canad
 a. This workshop has been developed in an effort to position the gradu
 ate for success in the Ontario solar market and provide a steadfast ed
 ucation which will weather future developments in the sector. CREA’s
  initiative to bring a standard of education to the Ontario market pla
 ce is embodied by this workshop; to this end, the workshop has been cr
 eated by not only industry professionals but also education specialist
 s to help ensure that our certificate of completion will endure regula
 tory compliance as the sector and trade of solar PV installation is es
 tablished here in Ontario.\n\nFor more information visit https://ontag
 .farms.com/events/5day-solar-pv-design
DTSTART;TZID=Pacific/Midway:20110223T080000
DTEND;TZID=Pacific/Midway:20110227T170000
CATEGORIES:training, workshop
LOCATION:Earth Ranger's Facility
WEBSITE:http://www.renewableenergyacademy.ca
URL:http://www.renewableenergyacademy.ca
CONTACT:647-832-0553
ORGANIZER:Canadian Renewable Energy Academy
ATTACH;FMTTYPE="image/jpeg":
ATTENDEE;ROLE=REQ-PARTICIPANT;PARTSTAT=ACCEPTED;RSVP=TRUE;CN="Canadian
  Solar Institute":https://ontag.farms.com/profile/CdnSolarInstitute
END:VEVENT
END:VCALENDAR
