BEGIN:VCALENDAR
PRODID:NingEventWidget-v1
VERSION:2.0
METHOD:PUBLISH
BEGIN:VTIMEZONE
TZID:Pacific/Midway
X-LIC-LOCATION:Pacific/Midway
BEGIN:STANDARD
TZOFFSETFROM:-1100
TZOFFSETTO:-1100
TZNAME:SST
DTSTART:19700101T000000
END:STANDARD
END:VTIMEZONE
BEGIN:VEVENT
UID:3646443:Event:77867
DTSTAMP:20260421T154742Z
SUMMARY:6th Annual Ecological Farmers of Ontario Conference
DESCRIPTION:The EFAO Conference draws farmers and supporters from acro
 ss the food system for four days of intensive learning, idea-sharing, 
 networking and celebration with good food and friends.\r\nWhat you can
  expect at this year’s conference:\r\n\r\nOver 400 attendees\r\n2-da
 y Trade Show\r\n36+ workshops, including 5 full-day intensive workshop
 s\r\n3 keynote speaker\r\nFarmer-Led Research Symposium\r\nFarm tours,
  Banquet Dinner, EFAO’s 40th Anniversary Celebration, and more!\r\n\
 n\nFor more information visit https://ontag.farms.com/events/6th-annua
 l-ecological-farmers-of-ontario-conference
DTSTART;TZID=Pacific/Midway:20191202T090000
DTEND;TZID=Pacific/Midway:20191205T180000
CATEGORIES:conference
LOCATION:Ramada by Wyndham Hotel
WEBSITE:https://efao.ca/event/efao-conference-2019/
URL:https://efao.ca/event/efao-conference-2019/
CONTACT:519-822-8606 | 1-877-822-8606
ORGANIZER:Ecological Farmers of Ontario
ATTACH;FMTTYPE="image/jpeg":
ATTENDEE;ROLE=REQ-PARTICIPANT;PARTSTAT=ACCEPTED;RSVP=TRUE;CN="OntAG Ad
 min":https://ontag.farms.com/profile/OntAGAdmin
END:VEVENT
END:VCALENDAR
