BEGIN:VCALENDAR
PRODID:NingEventWidget-v1
VERSION:2.0
METHOD:PUBLISH
BEGIN:VTIMEZONE
TZID:Pacific/Midway
X-LIC-LOCATION:Pacific/Midway
BEGIN:STANDARD
TZOFFSETFROM:-1100
TZOFFSETTO:-1100
TZNAME:SST
DTSTART:19700101T000000
END:STANDARD
END:VTIMEZONE
BEGIN:VEVENT
UID:3646443:Event:67820
DTSTAMP:20260422T104221Z
SUMMARY:8th Annual  Hazelnut Symposium
DESCRIPTION:On March 28, 2017, the Ontario Hazelnut Association, in co
 -operation with the University of Guelph, will host \"The Future of Ha
 zelnuts in Ontario\", the 8th Annual Ontario Hazelnut Association Symp
 osium, a gathering of growers, nurseries, companies, government, acade
 mics and executives who are involved in the hazelnut value chain in On
 tario.\nThe program will speak to the future of the hazelnut industry 
 in Ontario and hold the 5th Annual Ontario Hazelnut Association AGM.\n
 \nFor more information visit https://ontag.farms.com/events/8th-annual
 -hazelnut-symposium
DTSTART;TZID=Pacific/Midway:20170328T090000
DTEND;TZID=Pacific/Midway:20170328T170000
CATEGORIES:symposium
LOCATION:Best Western Brantford Hotel and Conference Centre
WEBSITE:https://www.eventbrite.ca/e/8th-annual-hazelnut-symposium-the-
 future-of-hazelnuts-in-ontario-registration-30987947786
URL:https://www.eventbrite.ca/e/8th-annual-hazelnut-symposium-the-futu
 re-of-hazelnuts-in-ontario-registration-30987947786
CONTACT:519 546 5722
ORGANIZER;CN="OntAG Admin":https://ontag.farms.com/profile/OntAGAdmin
ATTACH;FMTTYPE="image/jpeg":
ATTENDEE;ROLE=REQ-PARTICIPANT;PARTSTAT=ACCEPTED;RSVP=TRUE;CN="OntAG Ad
 min":https://ontag.farms.com/profile/OntAGAdmin
END:VEVENT
END:VCALENDAR
