BEGIN:VCALENDAR
PRODID:NingEventWidget-v1
VERSION:2.0
METHOD:PUBLISH
BEGIN:VTIMEZONE
TZID:Pacific/Midway
X-LIC-LOCATION:Pacific/Midway
BEGIN:STANDARD
TZOFFSETFROM:-1100
TZOFFSETTO:-1100
TZNAME:SST
DTSTART:19700101T000000
END:STANDARD
END:VTIMEZONE
BEGIN:VEVENT
UID:3646443:Event:9085
DTSTAMP:20260420T003211Z
SUMMARY:A Seminar of Prime Importance to the Farmer/Woodlot Owner
DESCRIPTION:Topics will cover some of the areas that deal with the imp
 ortance of tree marking and marketing to achieve your maximum benefit.
  Get the latest information on forest insects and disease which is a g
 rowing problem, as well as tips on Maple Syrup production and Managed 
 Forest Tax Incentive Program (MFTIP). Cost: $20/person, lunch included
 . To Register: Call 519-986-3756 by Feb. 15, 2011\n\nFor more informat
 ion visit https://ontag.farms.com/events/a-seminar-of-prime-importance
DTSTART;TZID=Pacific/Midway:20110218T100000
DTEND;TZID=Pacific/Midway:20110218T150000
CATEGORIES:seminar
LOCATION:Cooke’s Presbyterian Church
WEBSITE:
URL:
CONTACT:519-986-3756
ORGANIZER:Grey County Agricultural Services Centre
ATTACH;FMTTYPE="image/jpeg":http://storage.ning.com/topology/rest/1.0/
 file/get/1091510410?profile=original
ATTENDEE;ROLE=REQ-PARTICIPANT;PARTSTAT=ACCEPTED;RSVP=TRUE;CN="Grey Bru
 ce Farmers' Week":https://ontag.farms.com/profile/GreyBruceFarmersWeek
END:VEVENT
END:VCALENDAR
