BEGIN:VCALENDAR
PRODID:NingEventWidget-v1
VERSION:2.0
METHOD:PUBLISH
BEGIN:VTIMEZONE
TZID:Pacific/Midway
X-LIC-LOCATION:Pacific/Midway
BEGIN:STANDARD
TZOFFSETFROM:-1100
TZOFFSETTO:-1100
TZNAME:SST
DTSTART:19700101T000000
END:STANDARD
END:VTIMEZONE
BEGIN:VEVENT
UID:3646443:Event:78506
DTSTAMP:20260422T014502Z
SUMMARY:AALP Dream Auction - 29 February 2020
DESCRIPTION:The AALP Dream Auction gala evening will take place on Feb
 ruary 29, 2020 at the Delta Hotel and Conference Center in Guelph.  I
 t will be a great evening of bidding, great food and socializing with 
 the who’s who of Ontario agriculture.  With over 200 items up for b
 id you will definitely find something just right. Check out the websit
 e to get ready. Tickets can be purchased for $75 each by visiting www
 .aalpdreamauction.com  Bring a “handful of friends” and receive o
 ne ticket free!\n\nFor more information visit https://ontag.farms.com/
 events/aalp-dream-auction-29-february-2020
DTSTART;TZID=Pacific/Midway:20200229T080000
DTEND;TZID=Pacific/Midway:20200229T170000
CATEGORIES:farm, equipment, auction
LOCATION:Delta Hotel and Conference Center
WEBSITE:http://www.aalpdreamauction.com
URL:http://www.aalpdreamauction.com
CONTACT:519-826-4204.
ORGANIZER;CN="OntAG Admin":https://ontag.farms.com/profile/OntAGAdmin
ATTACH;FMTTYPE="image/jpeg":
ATTENDEE;ROLE=REQ-PARTICIPANT;PARTSTAT=ACCEPTED;RSVP=TRUE;CN="OntAG Ad
 min":https://ontag.farms.com/profile/OntAGAdmin
END:VEVENT
END:VCALENDAR
