BEGIN:VCALENDAR
PRODID:NingEventWidget-v1
VERSION:2.0
METHOD:PUBLISH
BEGIN:VTIMEZONE
TZID:Pacific/Midway
X-LIC-LOCATION:Pacific/Midway
BEGIN:STANDARD
TZOFFSETFROM:-1100
TZOFFSETTO:-1100
TZNAME:SST
DTSTART:19700101T000000
END:STANDARD
END:VTIMEZONE
BEGIN:VEVENT
UID:3646443:Event:5581
DTSTAMP:20260421T123502Z
SUMMARY:Advanced Nematode Workshop
DESCRIPTION:with Dr. George Bird, Nematologist, Michigan State Univers
 ity\n\nCost: Free\nRegistration: Pre-registration is required - maximu
 m of 25\n\nWant More? Attend Southwest Crop Diagnostic Days July 7 or 
 July 8 for \"Nematodes Unearthed - Discover which Ones are working wit
 h you and Against You\" - also with Dr. Bird www.diagnosticdays,ca\n\n
 For more information visit https://ontag.farms.com/events/advanced-nem
 atode-workshop
DTSTART;TZID=Pacific/Midway:20100706T170000
DTEND;TZID=Pacific/Midway:20100706T190000
CATEGORIES:workshop
LOCATION:University of Guelph Ridgetown Campus
WEBSITE:
URL:
CONTACT:1-877-424-1300 or 519-826-4047
ORGANIZER:OMAFRA and University of Guelph Ridgetown Campus
ATTACH;FMTTYPE="image/jpeg":
ATTENDEE;ROLE=REQ-PARTICIPANT;PARTSTAT=ACCEPTED;RSVP=TRUE;CN=ontarioto
 mato:https://ontag.farms.com/profile/ontariotomato
END:VEVENT
END:VCALENDAR
