BEGIN:VCALENDAR
PRODID:NingEventWidget-v1
VERSION:2.0
METHOD:PUBLISH
BEGIN:VTIMEZONE
TZID:Pacific/Midway
X-LIC-LOCATION:Pacific/Midway
BEGIN:STANDARD
TZOFFSETFROM:-1100
TZOFFSETTO:-1100
TZNAME:SST
DTSTART:19700101T000000
END:STANDARD
END:VTIMEZONE
BEGIN:VEVENT
UID:3646443:Event:59487
DTSTAMP:20260421T040009Z
SUMMARY:Advancing Women Conference (AWC) East 2015 - Toronto
DESCRIPTION: \n\nAWC EAST 2015 will be held at The Westin Harbour Cast
 le, Toronto, a full-service luxury hotel centrally located in the hear
 t of downtown Toronto, Ontario. It is a fabulous conference facility g
 iving us plenty of room to network and exhibit. Enjoy 4-star accommoda
 tions at an excellent price that extends for longer than the conferenc
 e dates.  AWC EAST 2015 will have the speakers, the networking, the ex
 hibitors, the food and beverages… all at the quality you expect from
  AWC and IMCI. We took into consideration the feedback we heard from o
 ur 2014 participants and tried to implement all the suggestions to mak
 e 2015 even more successful than 2014! Come and join us and meet the A
 dvancing Women of 2015!  Please visit this site often for updates, and
  contact us if you have any questions.  Phone: 403-686-8407 Email: eve
 nts@irismeck.com Fax: 403-255-4592 Address: Suite 510, 5920 – 1 A st
 reet SW, Calgary, Alberta T2H 0G3 Twitter: @advancing_women\n\nFor mo
 re information visit https://ontag.farms.com/events/advancing-women-co
 nference-toronto
DTSTART;TZID=Pacific/Midway:20151005T000000
DTEND;TZID=Pacific/Midway:20151006T235900
CATEGORIES:"advancing women conference"
LOCATION:The Westin Harbour Castle, Toronto
WEBSITE:http://www.advancingwomenconference.ca/2015east/index.html
URL:http://www.advancingwomenconference.ca/2015east/index.html
CONTACT:Phone: 403-686-8407 Email: events@irismeck.com
ORGANIZER:Iris Meck / Advancing Women Conference
ATTACH;FMTTYPE="image/jpeg":http://storage.ning.com/topology/rest/1.0/
 file/get/1091534424?profile=original
ATTENDEE;ROLE=REQ-PARTICIPANT;PARTSTAT=ACCEPTED;RSVP=TRUE;CN="OntAG Ad
 min":https://ontag.farms.com/profile/OntAGAdmin
END:VEVENT
END:VCALENDAR
