BEGIN:VCALENDAR
PRODID:NingEventWidget-v1
VERSION:2.0
METHOD:PUBLISH
BEGIN:VTIMEZONE
TZID:Pacific/Midway
X-LIC-LOCATION:Pacific/Midway
BEGIN:STANDARD
TZOFFSETFROM:-1100
TZOFFSETTO:-1100
TZNAME:SST
DTSTART:19700101T000000
END:STANDARD
END:VTIMEZONE
BEGIN:VEVENT
UID:3646443:Event:71567
DTSTAMP:20260422T062101Z
SUMMARY:AG 4.0.1 - DIGITAL AGRICULTURE CONFERENCE
DESCRIPTION:Grey County is excited to continue the conversations we st
 arted in 2016 about the rural renaissance at the intersection of agric
 ulture and technology. As with last year, we’ve assembled an inspiri
 ng line-up of innovators and thought leaders to guide our sessions and
  engage participants.\r\nThis year we will shine the light on global c
 hallenges and local opportunities.\r\nWe’ll celebrate successes, exp
 lore problems to be solved, and inspire creative engagement between ag
  and tech throughout the day. You'll learn from keynote speakers and s
 ession participants including:\r\n\r\nTyler Whale Executive Director,
  Ontario Agri-Food Technologies\r\nSarah Rotz Post Doctoral Fellow, U
 niversity of Guelph \"Feeding 9 Billion\" team\r\nKaren Hand Bio-stat
 istician, Ontario Precision Agri-Food\r\nDoug Knox Vice-President, Bi
 oenterprise Corporation\r\nDeb Campbell Agronomist, Agronomy Advantag
 e\r\nAnd many other leaders in the world of agricultural technology\r\
 n\r\nOPPORTUNITIES FOR YOUTH\r\nGrey County and our community partners
  encourage youth to attend Ag 4.0.1. Youth between 16 and 25 can win o
 ne of 5 free sponsored scholarship tickets. Apply now - deadline for a
 pplications in November 17.\n\nFor more information visit https://onta
 g.farms.com/events/ag-4-0-1-digital-agriculture-conference
DTSTART;TZID=Pacific/Midway:20171124T083000
DTEND;TZID=Pacific/Midway:20171124T160000
CATEGORIES:agriculture, conference
LOCATION:Meaford Hall Arts And Cultural Centre
WEBSITE:https://www.eventbrite.ca/e/ag-401-tickets-36998661994?aff=eiv
 tefrnd
URL:https://www.eventbrite.ca/e/ag-401-tickets-36998661994?aff=eivtefr
 nd
CONTACT:
ORGANIZER:Grey County Economic Development
ATTACH;FMTTYPE="image/jpeg":
ATTENDEE;ROLE=REQ-PARTICIPANT;PARTSTAT=ACCEPTED;RSVP=TRUE;CN="OntAG Ad
 min":https://ontag.farms.com/profile/OntAGAdmin
END:VEVENT
END:VCALENDAR
