BEGIN:VCALENDAR
PRODID:NingEventWidget-v1
VERSION:2.0
METHOD:PUBLISH
BEGIN:VTIMEZONE
TZID:Pacific/Midway
X-LIC-LOCATION:Pacific/Midway
BEGIN:STANDARD
TZOFFSETFROM:-1100
TZOFFSETTO:-1100
TZNAME:SST
DTSTART:19700101T000000
END:STANDARD
END:VTIMEZONE
BEGIN:VEVENT
UID:3646443:Event:67078
DTSTAMP:20260422T090739Z
SUMMARY:Ag 4.0 Summit + Innovation Tour
DESCRIPTION:Grey County is home to exceptional innovation in agricultu
 re, food, and rural entrepreneurship. We work with leaders at home and
  abroadÂ to make sure we'reÂ delivering the tools that our communities
  and businesses need to succeed. That's why we're shining aÂ spotlight
  on creative technological innovation in agriculture with a new event 
 you won't want to miss:Â   Ag 4.0: The Next Big ThingÂ is aÂ two-day S
 ummit and Innovation Tour that will provide opportunities for producer
 s to learn from fellow agricultural innovators and technology leaders,
  as well as create an environment where agricultural and food producer
 s can connect and problem-solve with professionals from the creative a
 nd technological fields.\nClick here to view the program at a glance.Â
  \n Registration for this great eventÂ is now open. Follow the link be
 low toÂ reserve your seat. Register today and be part of leading the r
 ural renaissance!\n\nFor more information visit https://ontag.farms.co
 m/events/ag-4-0-summit-innovation-tour
DTSTART;TZID=Pacific/Midway:20161102T000000
DTEND;TZID=Pacific/Midway:20161103T235900
CATEGORIES:conference
LOCATION:Grey County
WEBSITE:http://connectedcounty-smartag.eventbrite.ca
URL:http://connectedcounty-smartag.eventbrite.ca
CONTACT:519-372-0219 ext 1255
ORGANIZER;CN="Ashleigh Weeden":https://ontag.farms.com/profile/Ashleig
 hWeeden
ATTACH;FMTTYPE="image/jpeg":http://storage.ning.com/topology/rest/1.0/
 file/get/1091545844?profile=original
ATTENDEE;ROLE=REQ-PARTICIPANT;PARTSTAT=ACCEPTED;RSVP=TRUE;CN="Ashleigh
  Weeden":https://ontag.farms.com/profile/AshleighWeeden
END:VEVENT
END:VCALENDAR
