BEGIN:VCALENDAR
PRODID:NingEventWidget-v1
VERSION:2.0
METHOD:PUBLISH
BEGIN:VTIMEZONE
TZID:Pacific/Midway
X-LIC-LOCATION:Pacific/Midway
BEGIN:STANDARD
TZOFFSETFROM:-1100
TZOFFSETTO:-1100
TZNAME:SST
DTSTART:19700101T000000
END:STANDARD
END:VTIMEZONE
BEGIN:VEVENT
UID:3646443:Event:59021
DTSTAMP:20260424T063027Z
SUMMARY:AG-Ambitions Farm Family Mini-Conference
DESCRIPTION:\n\n\nFor more information visit https://ontag.farms.com/e
 vents/ag-ambitions-farm-family-mini-conference
DTSTART;TZID=Pacific/Midway:20141129T090000
DTEND;TZID=Pacific/Midway:20141129T143000
CATEGORIES:mini-conference
LOCATION:REACH Huron
WEBSITE:http://www.ag-ambitions.ca/?tribe_events=ag-ambitions-mini-con
 ference
URL:http://www.ag-ambitions.ca/?tribe_events=ag-ambitions-mini-confere
 nce
CONTACT:
ORGANIZER:AG-Ambitions
ATTACH;FMTTYPE="image/jpeg":http://storage.ning.com/topology/rest/1.0/
 file/get/1091533001?profile=original
ATTENDEE;ROLE=REQ-PARTICIPANT;PARTSTAT=ACCEPTED;RSVP=TRUE;CN="OntAG Ad
 min":https://ontag.farms.com/profile/OntAGAdmin
END:VEVENT
END:VCALENDAR
