BEGIN:VCALENDAR
PRODID:NingEventWidget-v1
VERSION:2.0
METHOD:PUBLISH
BEGIN:VTIMEZONE
TZID:Pacific/Midway
X-LIC-LOCATION:Pacific/Midway
BEGIN:STANDARD
TZOFFSETFROM:-1100
TZOFFSETTO:-1100
TZNAME:SST
DTSTART:19700101T000000
END:STANDARD
END:VTIMEZONE
BEGIN:VEVENT
UID:3646443:Event:50645
DTSTAMP:20260425T083343Z
SUMMARY:AG-Ambitions Program: Huron Country Bus Tour For Youth.
DESCRIPTION:AG-Ambitions Program ANNOUNCES HURON COUNTY BUS TOUR TO EN
 TERPRISING AG BUSINESS ENTERPRISES FOR YOUTH 18-29HURON COUNTY, ON –
  AG Ambitions AG Bus Tour:\nThe AG-Ambitions Program BUS TOUR is open 
 to youth aged 18-29 that reside in Huron County.  The date is Saturda
 y, November 23rd starting at the Reach Centre parking lot in Clinton O
 n, and tours innovative enterprises in Huron County.  Participants wi
 ll meet AG business innovators and find out what AG opportunities abou
 nd in Huron County.  The tour includes an inside look at farming, far
 m retail, food processing, supply, manufacturing and more.  \n \nThe
  AG Ambitions Program is a Huron County training initiative for future
  AG business entrepreneurs, young farmers and potential farmers from t
 he ages of 18-29.  Program participants will gain exposure to new opp
 ortunities in agriculture and the tools and experience to capitalize o
 n those opportunities.  The program provides an overview to the links
  between agriculture and the local economy and participants are encour
 aged to explore how to leverage these opportunities to develop their o
 wn competitive advantage.  The AG-Ambitions Program offers a series o
 f workshops for training, tours to innovative enterprises in Huron Cou
 nty and networking to foster skills and knowledge needed to succeed fo
 r the future.  Program events and the schedule of workshops for the p
 rogram, will be released in the coming weeks.\n \nThe tour starts at 
 the REACH CENTRE parking lot at 169 Beech Street in Clinton at 8:15 a.
 m. and returns back to the parking lot at 4:00 p.m.  The deadline for
  the bus tour registration is Wednesday, November 20th by 5:00 p.m.  
 The tour registration fee is $20.00 and includes a full lunch made wit
 h local ingredients, snacks and beverages.  Participants should plan 
 footwear and clothing according to weather conditions – rain or shin
 e – the tour is on. \n \nTo register for the bus tour contact:\nAG
  Ambitions Program\nPh:       (519) 527-0305\nor\nEmail: agambit
 ions@huroncounty.ca       \nWeb:  http:  www.ag-ambitions.ca\
 nFollow us on Facebook\n\nFor more information visit https://ontag.far
 ms.com/events/ag-ambitions-program-huron-country-bus-tour-for-youth
DTSTART;TZID=Pacific/Midway:20131123T000000
DTEND;TZID=Pacific/Midway:20131123T235900
CATEGORIES:education, event
LOCATION:Reach Centre, Clinton, Ontario
WEBSITE:http://www.ag-ambitions.ca
URL:http://www.ag-ambitions.ca
CONTACT:
ORGANIZER;CN="OntAG Admin":https://ontag.farms.com/profile/OntAGAdmin
ATTACH;FMTTYPE="image/jpeg":
ATTENDEE;ROLE=REQ-PARTICIPANT;PARTSTAT=ACCEPTED;RSVP=TRUE;CN="OntAG Ad
 min":https://ontag.farms.com/profile/OntAGAdmin
END:VEVENT
END:VCALENDAR
