BEGIN:VCALENDAR
PRODID:NingEventWidget-v1
VERSION:2.0
METHOD:PUBLISH
BEGIN:VTIMEZONE
TZID:Pacific/Midway
X-LIC-LOCATION:Pacific/Midway
BEGIN:STANDARD
TZOFFSETFROM:-1100
TZOFFSETTO:-1100
TZNAME:SST
DTSTART:19700101T000000
END:STANDARD
END:VTIMEZONE
BEGIN:VEVENT
UID:3646443:Event:60401
DTSTAMP:20260422T064014Z
SUMMARY:AG BIOMASS DAY 2015
DESCRIPTION:Join OBPC for a day of networking and education!\nThe thre
 e major areas of focus will be; Grower Experiences and Innovations (20
 14 & 2015 Ag research activities), Animal Bedding and Biomass Markets.
 Â \nThe event will focus on future biomass production growth, includin
 g the drive for much more acreage and active biomass producers.\nAs a 
 result of the serious straw shortage in our province, one segment has 
 been dedicated exclusively to animal bedding.Â \nIn the Biomass Market
 s segment there are a range of short presentations planned, which will
  shed some light on near term and future biomass market opportunities.
 \nLunch will be provided, as well as refreshments & networking after s
 peakers.\nÂ \nContact: Urs Eggimann urs.eggimann@ontariobiomass.com\nÂ
  \nYouTube Event announcement https://www.youtube.com/watch?v=gReCKWSD
 YbI&feature=youtu.be\nA detailed agenda and admission details are outl
 ined on the OBPC website: https://ontariobiomassproducersgroup.wildapr
 icot.org/event-1848637\n\nFor more information visit https://ontag.far
 ms.com/events/ag-biomass-day-2015
DTSTART;TZID=Pacific/Midway:20150327T100000
DTEND;TZID=Pacific/Midway:20150327T160000
CATEGORIES:educational, meeting
LOCATION:University of Guelph
WEBSITE:https://ontariobiomassproducersgroup.wildapricot.org/event-184
 8637
URL:https://ontariobiomassproducersgroup.wildapricot.org/event-1848637
CONTACT:844-986-7545
ORGANIZER;CN="Ontario Biomass Producers Co-Ope":https://ontag.farms.co
 m/profile/OntarioBiomassProducersCoOpe
ATTACH;FMTTYPE="image/jpeg":
ATTENDEE;ROLE=REQ-PARTICIPANT;PARTSTAT=ACCEPTED;RSVP=TRUE;CN="Ontario 
 Biomass Producers Co-Ope":https://ontag.farms.com/profile/OntarioBioma
 ssProducersCoOpe
END:VEVENT
END:VCALENDAR
